
BEGIN:VCALENDAR
VERSION:2.0
PRODID:-//Knjižnica Cirila Kosmača Tolmin - ECPv5.16.4//NONSGML v1.0//EN
CALSCALE:GREGORIAN
METHOD:PUBLISH
X-WR-CALNAME:Knjižnica Cirila Kosmača Tolmin
X-ORIGINAL-URL:https://www.kcktolmin.si
X-WR-CALDESC:Events for Knjižnica Cirila Kosmača Tolmin
BEGIN:VTIMEZONE
TZID:Europe/Ljubljana
BEGIN:DAYLIGHT
TZOFFSETFROM:+0100
TZOFFSETTO:+0200
TZNAME:CEST
DTSTART:20200329T010000
END:DAYLIGHT
BEGIN:STANDARD
TZOFFSETFROM:+0200
TZOFFSETTO:+0100
TZNAME:CET
DTSTART:20201025T010000
END:STANDARD
END:VTIMEZONE
BEGIN:VEVENT
DTSTART;TZID=Europe/Ljubljana:20200910T190000
DTEND;TZID=Europe/Ljubljana:20200910T190000
DTSTAMP:20260420T204238
CREATED:20200831T083920Z
LAST-MODIFIED:20200911T100953Z
UID:11520-1599764400-1599764400@www.kcktolmin.si
SUMMARY:Odprtje razstave Vojka Gašperuta
DESCRIPTION:Vojko Gašperut\nBARVITOST MOJIH KRAJEV \n \nGalerija Knjižnice Cirila Kosmača Tolmin\n10. 9.–5. 10. 2020 \nVabimo vas na odprtje razstave v četrtek\, 10. septembra 2020\, ob 19h. \nO likovnem delu Vojka Gašperuta bo spregovorila umetnostna zgodovinarka Anamarija Stibilj Šajn. \nVojko_Gasperut_zgibanka \nAnamarija Stibilj Šajn – Vojko Gašperut \nVOJKO GAŠPERUT-življenjepis \nUtrinki z odprtja razstave.
URL:https://www.kcktolmin.si/dogodek/11520/
CATEGORIES:Razstava
ATTACH;FMTTYPE=image/jpeg:https://www.kcktolmin.si/wp-content/uploads/2020/08/705-Soca-olje-platno-scaled.jpg
END:VEVENT
END:VCALENDAR