
BEGIN:VCALENDAR
VERSION:2.0
PRODID:-//Knjižnica Cirila Kosmača Tolmin - ECPv5.16.4//NONSGML v1.0//EN
CALSCALE:GREGORIAN
METHOD:PUBLISH
X-WR-CALNAME:Knjižnica Cirila Kosmača Tolmin
X-ORIGINAL-URL:https://www.kcktolmin.si
X-WR-CALDESC:Events for Knjižnica Cirila Kosmača Tolmin
BEGIN:VTIMEZONE
TZID:Europe/Ljubljana
BEGIN:DAYLIGHT
TZOFFSETFROM:+0100
TZOFFSETTO:+0200
TZNAME:CEST
DTSTART:20190331T010000
END:DAYLIGHT
BEGIN:STANDARD
TZOFFSETFROM:+0200
TZOFFSETTO:+0100
TZNAME:CET
DTSTART:20191027T010000
END:STANDARD
END:VTIMEZONE
BEGIN:VEVENT
DTSTART;TZID=Europe/Ljubljana:20190212T190000
DTEND;TZID=Europe/Ljubljana:20190212T203000
DTSTAMP:20260419T141700
CREATED:20190207T062627Z
LAST-MODIFIED:20190207T062757Z
UID:8456-1549998000-1550003400@www.kcktolmin.si
SUMMARY:Bogdan Biščak: Igra in biseri
DESCRIPTION:PD Tolmin vabi na 5. planinski večer 2018/2019\, predstavitev knjige \nBogdana Biščaka \n IGRA IN BISERI  \nAvtorjeva uvodna diaprojekcija in predstavitev knjige. \nRazgovor z avtorjem bo vodil Janko Humar. \nVeč o avtorju in knjigi: BOGDAN BIŠČAK – IGRA IN BISERI
URL:https://www.kcktolmin.si/dogodek/bogdan-biscak-igra-in-biseri/
LOCATION:Knjižnica Tolmin
CATEGORIES:Predstavitev knjige
ATTACH;FMTTYPE=image/jpeg:https://www.kcktolmin.si/wp-content/uploads/2015/11/markacija_1.jpg
END:VEVENT
END:VCALENDAR