
BEGIN:VCALENDAR
VERSION:2.0
PRODID:-//Knjižnica Cirila Kosmača Tolmin - ECPv5.16.4//NONSGML v1.0//EN
CALSCALE:GREGORIAN
METHOD:PUBLISH
X-WR-CALNAME:Knjižnica Cirila Kosmača Tolmin
X-ORIGINAL-URL:https://www.kcktolmin.si
X-WR-CALDESC:Events for Knjižnica Cirila Kosmača Tolmin
BEGIN:VTIMEZONE
TZID:Europe/Ljubljana
BEGIN:DAYLIGHT
TZOFFSETFROM:+0100
TZOFFSETTO:+0200
TZNAME:CEST
DTSTART:20170326T010000
END:DAYLIGHT
BEGIN:STANDARD
TZOFFSETFROM:+0200
TZOFFSETTO:+0100
TZNAME:CET
DTSTART:20171029T010000
END:STANDARD
END:VTIMEZONE
BEGIN:VEVENT
DTSTART;TZID=Europe/Ljubljana:20171027T190000
DTEND;TZID=Europe/Ljubljana:20171027T200000
DTSTAMP:20260421T122750
CREATED:20171017T075917Z
LAST-MODIFIED:20171017T075917Z
UID:5747-1509130800-1509134400@www.kcktolmin.si
SUMMARY:Bovčani pišejo zgodbe: Tomaž Flajs
DESCRIPTION:Knjižnica Bovec vabi na pogovorni večer Bovčani pišejo zgodbe. Gost bo Tomaž Flajs\, geštalt psihoterapevt\, domačin\, ki živi in dela v Ljubljani. \n \n  \nZ njim se bo pogovarjal David Štulc Zornik. \nPo prireditvi bo možen nakup knjige Človeška ljubezen\, katere soavtor je Tomaž Flajs.
URL:https://www.kcktolmin.si/dogodek/bovcani-pisejo-zgodbe-tomaz-flajs/
LOCATION:Knjižnica Bovec\, Mala dvorana Kulturnega doma Bovec\, Ledina 6\, Bovec\, Slovenija
CATEGORIES:Bralna kultura,Predstavitev knjige
ATTACH;FMTTYPE=image/jpeg:https://www.kcktolmin.si/wp-content/uploads/2017/10/Flajs-2_obrezana.jpg
ORGANIZER;CN="Knji%C5%BEnica%20Cirila%20Kosma%C4%8Da%20Tolmin%3A%20Knji%C5%BEnica%20Bovec":MAILTO:bovec@kcktolmin.si
END:VEVENT
END:VCALENDAR