
BEGIN:VCALENDAR
VERSION:2.0
PRODID:-//Knjižnica Cirila Kosmača Tolmin - ECPv5.16.4//NONSGML v1.0//EN
CALSCALE:GREGORIAN
METHOD:PUBLISH
X-WR-CALNAME:Knjižnica Cirila Kosmača Tolmin
X-ORIGINAL-URL:https://www.kcktolmin.si
X-WR-CALDESC:Events for Knjižnica Cirila Kosmača Tolmin
BEGIN:VTIMEZONE
TZID:Europe/Ljubljana
BEGIN:DAYLIGHT
TZOFFSETFROM:+0100
TZOFFSETTO:+0200
TZNAME:CEST
DTSTART:20240331T010000
END:DAYLIGHT
BEGIN:STANDARD
TZOFFSETFROM:+0200
TZOFFSETTO:+0100
TZNAME:CET
DTSTART:20241027T010000
END:STANDARD
END:VTIMEZONE
BEGIN:VEVENT
DTSTART;TZID=Europe/Ljubljana:20240118T180000
DTEND;TZID=Europe/Ljubljana:20240118T180000
DTSTAMP:20260420T093658
CREATED:20231113T122100Z
LAST-MODIFIED:20240117T152757Z
UID:19559-1705600800-1705600800@www.kcktolmin.si
SUMMARY:Cirila Toplak: Naša vera
DESCRIPTION:Vabimo vas na srečanje z dr. Cirilo Toplak\, profesorico političnih ved in poznavalko politične in etnološke zgodovine Slovenije. Prof. Toplak bo predstavila delo Naša vera: Naravoverstvo na Primorskem\, ki je izčrpna študija tradicionalnega verovanja primorskih starovercev in njihovega življenja. Opira se na kompleksno in v marsičem prelomno delo Pavla Medveščka Iz nevidne strani neba\, pri tem pa raziskave dopolnjuje z lastnimi dognanji na podlagi terenskih raziskav in akademskih uvidov. \nDelo\, ki je izšlo pri Založbi AMEU-ISH\, v slovenski znanstveni prostor prinaša kritična spoznanja v zvezi s pomembno tematiko\, ki je bila še do nedavno povsem spregledana v slovenski javnosti\, neposredno pa se nanaša na aktivno zapuščino severne Primorske. \nPogovor z avtorico bo vodil dr. Lenart Škof\, dekan AMEU-ISH. \n\n\n \n\n\n 
URL:https://www.kcktolmin.si/dogodek/cirila-toplak-nasa-vera/
LOCATION:Knjižnica Tolmin
CATEGORIES:Bralna kultura,Predstavitev knjige
ATTACH;FMTTYPE=image/jpeg:https://www.kcktolmin.si/wp-content/uploads/2023/11/nasa_vera_115710.jpg
END:VEVENT
END:VCALENDAR