
BEGIN:VCALENDAR
VERSION:2.0
PRODID:-//Knjižnica Cirila Kosmača Tolmin - ECPv5.16.4//NONSGML v1.0//EN
CALSCALE:GREGORIAN
METHOD:PUBLISH
X-WR-CALNAME:Knjižnica Cirila Kosmača Tolmin
X-ORIGINAL-URL:https://www.kcktolmin.si
X-WR-CALDESC:Events for Knjižnica Cirila Kosmača Tolmin
BEGIN:VTIMEZONE
TZID:Europe/Ljubljana
BEGIN:DAYLIGHT
TZOFFSETFROM:+0100
TZOFFSETTO:+0200
TZNAME:CEST
DTSTART:20160327T010000
END:DAYLIGHT
BEGIN:STANDARD
TZOFFSETFROM:+0200
TZOFFSETTO:+0100
TZNAME:CET
DTSTART:20161030T010000
END:STANDARD
END:VTIMEZONE
BEGIN:VEVENT
DTSTART;TZID=Europe/Ljubljana:20160521T090000
DTEND;TZID=Europe/Ljubljana:20160521T113000
DTSTAMP:20260419T221523
CREATED:20160513T095732Z
LAST-MODIFIED:20160513T095732Z
UID:3585-1463821200-1463830200@www.kcktolmin.si
SUMMARY:Delavnice za otroke Malo hišo
DESCRIPTION:Vabljeni na otroško delavnico\, ki jo zopet pripravlja ekipa Male hiše. \nVeč na plakatu: Delavnica maj 2016 \n 
URL:https://www.kcktolmin.si/dogodek/delavnice-za-otroke-malo-hiso/
LOCATION:Knjižnica Tolmin
CATEGORIES:Ustvarjalna delavnica za otroke
ATTACH;FMTTYPE=image/jpeg:https://www.kcktolmin.si/wp-content/uploads/2016/05/plakat-delavnica-maj-2016-page-001.jpg
END:VEVENT
END:VCALENDAR