
BEGIN:VCALENDAR
VERSION:2.0
PRODID:-//Knjižnica Cirila Kosmača Tolmin - ECPv5.16.4//NONSGML v1.0//EN
CALSCALE:GREGORIAN
METHOD:PUBLISH
X-WR-CALNAME:Knjižnica Cirila Kosmača Tolmin
X-ORIGINAL-URL:https://www.kcktolmin.si
X-WR-CALDESC:Events for Knjižnica Cirila Kosmača Tolmin
BEGIN:VTIMEZONE
TZID:Europe/Ljubljana
BEGIN:DAYLIGHT
TZOFFSETFROM:+0100
TZOFFSETTO:+0200
TZNAME:CEST
DTSTART:20160327T010000
END:DAYLIGHT
BEGIN:STANDARD
TZOFFSETFROM:+0200
TZOFFSETTO:+0100
TZNAME:CET
DTSTART:20161030T010000
END:STANDARD
END:VTIMEZONE
BEGIN:VEVENT
DTSTART;TZID=Europe/Ljubljana:20160616T190000
DTEND;TZID=Europe/Ljubljana:20160616T200000
DTSTAMP:20260421T105152
CREATED:20160602T120951Z
LAST-MODIFIED:20160630T092535Z
UID:3661-1466103600-1466107200@www.kcktolmin.si
SUMMARY:Eduard Belsky - likovna razstava
DESCRIPTION:EDUARD BELSKY (UKRAJINA) \nRodil se je 4. januarja leta 1963 v naselju Kolki\, Volinske regije\, v Ukrajini. Končal je Republikansko šolo za likovno umetnost in Dnipropetrovsko višjo strokovno šolo za likovno umetnost. Leta 1991 je diplomiral na Ukrajinski akademiji za likovno umetnost in arhitekturo. Od leta 1992 je član Zveze umetnikov Ukrajine. Pred nekaj leti se je preselil v Slovenijo\, najprej v Ljubljano. Od lanskega leta pa živi in ustvarja v Izoli\, kjer ima poleg ateljeja tudi galerijo. Še vedno pogosto odhaja v Kijev. S svojo ustvarjalnostjo je prisoten v mednarodnem prostoru. Pogosto razstavlja po Evropi\, predvsem v Franciji\, pa tudi v ZDA. Udeležuje se likovnih delavnic\, kolonij in simpozijev. \nRazstavo bo odprla umetnostna zgodovinarka Anamarija Stibilj Šajn. \nNa ogled do 11. julija 2016. \nVabilo-Belsky
URL:https://www.kcktolmin.si/dogodek/eduard-belsky-odprtje-razstave/
LOCATION:Knjižnica Tolmin
CATEGORIES:Razstava
ATTACH;FMTTYPE=image/jpeg:https://www.kcktolmin.si/wp-content/uploads/2016/06/Barke-1.jpg
END:VEVENT
END:VCALENDAR