
BEGIN:VCALENDAR
VERSION:2.0
PRODID:-//Knjižnica Cirila Kosmača Tolmin - ECPv5.16.4//NONSGML v1.0//EN
CALSCALE:GREGORIAN
METHOD:PUBLISH
X-WR-CALNAME:Knjižnica Cirila Kosmača Tolmin
X-ORIGINAL-URL:https://www.kcktolmin.si
X-WR-CALDESC:Events for Knjižnica Cirila Kosmača Tolmin
BEGIN:VTIMEZONE
TZID:Europe/Ljubljana
BEGIN:DAYLIGHT
TZOFFSETFROM:+0100
TZOFFSETTO:+0200
TZNAME:CEST
DTSTART:20190331T010000
END:DAYLIGHT
BEGIN:STANDARD
TZOFFSETFROM:+0200
TZOFFSETTO:+0100
TZNAME:CET
DTSTART:20191027T010000
END:STANDARD
END:VTIMEZONE
BEGIN:VEVENT
DTSTART;TZID=Europe/Ljubljana:20190827T193000
DTEND;TZID=Europe/Ljubljana:20190827T193000
DTSTAMP:20260420T163557
CREATED:20190612T145509Z
LAST-MODIFIED:20190822T130026Z
UID:9080-1566934200-1566934200@www.kcktolmin.si
SUMMARY:Kino pod brezami - Fergi - Dirka
DESCRIPTION:FERGI – DIRKA (Gråtass gir gass)\, igrani film\, slovenski dialogi\, 78 min\, 4+\nRežija: Peder Hamdahl Næss\nIgrajo: Jeppe Beck Laursen\, Dagny Backer Johnsen idr. \nDeček Gustav v gozdu doživi nesrečo\, a pred nevarnostjo ga reši prijatelj\, starinski traktor Fergi. Fergi se pri tem poškoduje\, rešijo ga lahko tako\, da njegovo vžigalno svečko\, njegovo pogumno srce\, prestavijo v starinski živordeč avtomobil. Fergi postane športni avto! \nPRED FILMOM ob 19h: ustvarjalna delavnica za otroke. \nV primeru dežja bo filmska projekcija prestavljena v Kino Tolmin\, ustvarjalna delavnica pa odpade. \nOgled je brezplačen.
URL:https://www.kcktolmin.si/dogodek/fergi-dirka/
LOCATION:Knjižnica Tolmin
CATEGORIES:Film
ATTACH;FMTTYPE=image/jpeg:https://www.kcktolmin.si/wp-content/uploads/2019/06/fergi-dirka.jpg
END:VEVENT
END:VCALENDAR