
BEGIN:VCALENDAR
VERSION:2.0
PRODID:-//Knjižnica Cirila Kosmača Tolmin - ECPv5.16.4//NONSGML v1.0//EN
CALSCALE:GREGORIAN
METHOD:PUBLISH
X-WR-CALNAME:Knjižnica Cirila Kosmača Tolmin
X-ORIGINAL-URL:https://www.kcktolmin.si
X-WR-CALDESC:Events for Knjižnica Cirila Kosmača Tolmin
BEGIN:VTIMEZONE
TZID:Europe/Ljubljana
BEGIN:DAYLIGHT
TZOFFSETFROM:+0100
TZOFFSETTO:+0200
TZNAME:CEST
DTSTART:20230326T010000
END:DAYLIGHT
BEGIN:STANDARD
TZOFFSETFROM:+0200
TZOFFSETTO:+0100
TZNAME:CET
DTSTART:20231029T010000
END:STANDARD
END:VTIMEZONE
BEGIN:VEVENT
DTSTART;TZID=Europe/Ljubljana:20230329T180000
DTEND;TZID=Europe/Ljubljana:20230329T180000
DTSTAMP:20260421T033518
CREATED:20230322T122412Z
LAST-MODIFIED:20230322T122412Z
UID:17714-1680112800-1680112800@www.kcktolmin.si
SUMMARY:Kaj bodo podnebne spremembe prinesle turistični destinaciji Dolina Soče?
DESCRIPTION:Identificirali bomo podnebne spremembe\, govorili o njihovem vplivu na našo dolino in na turizem pri nas ter o prilagoditvah turizma nanje. \nPredavala bo Renata Karba iz Umanotere.
URL:https://www.kcktolmin.si/dogodek/kaj-bodo-podnebne-spremembe-prinesle-turisticni-destinaciji-dolina-soce/
LOCATION:Knjižnica Tolmin
CATEGORIES:Predavanje
ATTACH;FMTTYPE=image/jpeg:https://www.kcktolmin.si/wp-content/uploads/2023/03/FEST_soska_postrv.jpg
END:VEVENT
END:VCALENDAR