
BEGIN:VCALENDAR
VERSION:2.0
PRODID:-//Knjižnica Cirila Kosmača Tolmin - ECPv5.16.4//NONSGML v1.0//EN
CALSCALE:GREGORIAN
METHOD:PUBLISH
X-WR-CALNAME:Knjižnica Cirila Kosmača Tolmin
X-ORIGINAL-URL:https://www.kcktolmin.si
X-WR-CALDESC:Events for Knjižnica Cirila Kosmača Tolmin
BEGIN:VTIMEZONE
TZID:Europe/Ljubljana
BEGIN:DAYLIGHT
TZOFFSETFROM:+0100
TZOFFSETTO:+0200
TZNAME:CEST
DTSTART:20260329T010000
END:DAYLIGHT
BEGIN:STANDARD
TZOFFSETFROM:+0200
TZOFFSETTO:+0100
TZNAME:CET
DTSTART:20261025T010000
END:STANDARD
END:VTIMEZONE
BEGIN:VEVENT
DTSTART;TZID=Europe/Ljubljana:20260526T190000
DTEND;TZID=Europe/Ljubljana:20260526T190000
DTSTAMP:20260422T132005
CREATED:20260420T115554Z
LAST-MODIFIED:20260420T115554Z
UID:26149-1779822000-1779822000@www.kcktolmin.si
SUMMARY:KJE ŽIVI PESEM?
DESCRIPTION:KJE ŽIVI PESEM?\nPogovorni večer o zborovski glasbi in odprtje razstave ob 20-letnici Komornega zbora Musica Viva Tolmin. \n 
URL:https://www.kcktolmin.si/dogodek/kje-zivi-pesem/
LOCATION:Knjižnica Tolmin
CATEGORIES:Razstava
END:VEVENT
END:VCALENDAR