
BEGIN:VCALENDAR
VERSION:2.0
PRODID:-//Knjižnica Cirila Kosmača Tolmin - ECPv5.16.4//NONSGML v1.0//EN
CALSCALE:GREGORIAN
METHOD:PUBLISH
X-WR-CALNAME:Knjižnica Cirila Kosmača Tolmin
X-ORIGINAL-URL:https://www.kcktolmin.si
X-WR-CALDESC:Events for Knjižnica Cirila Kosmača Tolmin
BEGIN:VTIMEZONE
TZID:Europe/Ljubljana
BEGIN:DAYLIGHT
TZOFFSETFROM:+0100
TZOFFSETTO:+0200
TZNAME:CEST
DTSTART:20190331T010000
END:DAYLIGHT
BEGIN:STANDARD
TZOFFSETFROM:+0200
TZOFFSETTO:+0100
TZNAME:CET
DTSTART:20191027T010000
END:STANDARD
END:VTIMEZONE
BEGIN:VEVENT
DTSTART;VALUE=DATE:20190524
DTEND;VALUE=DATE:20190525
DTSTAMP:20260419T202305
CREATED:20190327T131056Z
LAST-MODIFIED:20190523T174906Z
UID:8696-1558656000-1558742399@www.kcktolmin.si
SUMMARY:Koncert Pihalnega orkestra Tolmin - prestavljeno v kinogledališče
DESCRIPTION:Koncert ob 40-letnici orkestra. Do 31. maja bo v galeriji Knjižnice Tolmin na ogled razstava fotografij. \nKoncert bo zaradi napovedi slabega vremena potekal v Kinogledališču Tolmin.
URL:https://www.kcktolmin.si/dogodek/koncert-pihalnega-orkestra-tolmin/
LOCATION:Knjižnica Tolmin
CATEGORIES:Glasba
END:VEVENT
END:VCALENDAR