
BEGIN:VCALENDAR
VERSION:2.0
PRODID:-//Knjižnica Cirila Kosmača Tolmin - ECPv5.16.4//NONSGML v1.0//EN
CALSCALE:GREGORIAN
METHOD:PUBLISH
X-WR-CALNAME:Knjižnica Cirila Kosmača Tolmin
X-ORIGINAL-URL:https://www.kcktolmin.si
X-WR-CALDESC:Events for Knjižnica Cirila Kosmača Tolmin
BEGIN:VTIMEZONE
TZID:Europe/Ljubljana
BEGIN:DAYLIGHT
TZOFFSETFROM:+0100
TZOFFSETTO:+0200
TZNAME:CEST
DTSTART:20190331T010000
END:DAYLIGHT
BEGIN:STANDARD
TZOFFSETFROM:+0200
TZOFFSETTO:+0100
TZNAME:CET
DTSTART:20191027T010000
END:STANDARD
END:VTIMEZONE
BEGIN:VEVENT
DTSTART;TZID=Europe/Ljubljana:20191220T180000
DTEND;TZID=Europe/Ljubljana:20191220T190000
DTSTAMP:20260419T194245
CREATED:20191007T113440Z
LAST-MODIFIED:20191217T055121Z
UID:9584-1576864800-1576868400@www.kcktolmin.si
SUMMARY:Povratna vozovnica - Lenka Raspet: Camino del Norte
DESCRIPTION:Lenka Raspet\nCAMINO DEL NORTE \nKobarid\, 22. 11.\nTolmin\, 20. 12. \nCamino del Norte je 840 km dolga romarska pot ob obali severne Španije\, od Iruna na francosko-španski meji do groba apostola Jakoba v Santiagu de Composteli. Najlepša od številnih romarskih poti do Santiaga povezuje Baskijo\, Kantabrijo\, Asturijo in Galicijo in ponuja razglede na divje razčlenjeno obalo\, plaže\, ocean\, vasice\, mesta\, kapelice in cerkve … in je tudi potovanje vase ter srečanje s svojim pravim bistvom. \nhttps://www.kcktolmin.si/wp-content/uploads/2019/10/Povratna-2019-20-zgibanka.pdf
URL:https://www.kcktolmin.si/dogodek/lenka-raspet-tolmin/
LOCATION:Knjižnica Tolmin\, Tumov drevored 6\, Tolmin\, 5220\, Slovenija
CATEGORIES:Potopis
ATTACH;FMTTYPE=image/jpeg:https://www.kcktolmin.si/wp-content/uploads/2019/10/image00000026.jpg
ORGANIZER;CN="Knji%C5%BEnica%20Cirila%20Kosma%C4%8Da%20Tolmin":MAILTO:prireditve@kcktolmin.si
END:VEVENT
END:VCALENDAR