
BEGIN:VCALENDAR
VERSION:2.0
PRODID:-//Knjižnica Cirila Kosmača Tolmin - ECPv5.16.4//NONSGML v1.0//EN
CALSCALE:GREGORIAN
METHOD:PUBLISH
X-WR-CALNAME:Knjižnica Cirila Kosmača Tolmin
X-ORIGINAL-URL:https://www.kcktolmin.si
X-WR-CALDESC:Events for Knjižnica Cirila Kosmača Tolmin
BEGIN:VTIMEZONE
TZID:Europe/Ljubljana
BEGIN:DAYLIGHT
TZOFFSETFROM:+0100
TZOFFSETTO:+0200
TZNAME:CEST
DTSTART:20180325T010000
END:DAYLIGHT
BEGIN:STANDARD
TZOFFSETFROM:+0200
TZOFFSETTO:+0100
TZNAME:CET
DTSTART:20181028T010000
END:STANDARD
END:VTIMEZONE
BEGIN:VEVENT
DTSTART;TZID=Europe/Ljubljana:20180710T210000
DTEND;TZID=Europe/Ljubljana:20180710T230000
DTSTAMP:20260420T032848
CREATED:20180626T134132Z
LAST-MODIFIED:20180710T154257Z
UID:6988-1531256400-1531263600@www.kcktolmin.si
SUMMARY:Kino pod brezami - LEONARD COHEN: Bird on a Wire
DESCRIPTION:LEONARD COHEN: Bird on a Wire\, dokumentarni\, 106 min\nRežija: Tony Palmer\nFilm\, ki je dolgo veljal za izgubljenega\, je unikaten vpogled v obdobje\, ko je bil pesnik in glasbenik Leonard Cohen na vrhuncu ustvarjanja. Preplet posnetkov nastopov s turneje\, iz vietnamske vojne in iz Cohenovega otroštva je močan testament avtorjeve unikatne zmesi poezije in politike. \nPRED FILMOM: ob 20.30 bo glasbenik Rok Šinkovec interpretiral in izvajal Cohenove pesmi. \nV primeru slabega vremena bosta projekcija in koncert preseljena v Kinogledališče Tolmin. \nVeč o Kinu pod brezami: https://www.kcktolmin.si/prihaja-kino-pod-brezami-2018/
URL:https://www.kcktolmin.si/dogodek/leonard-cohen-bird-on-wire/
LOCATION:Knjižnica Tolmin
CATEGORIES:Film
ATTACH;FMTTYPE=image/png:https://www.kcktolmin.si/wp-content/uploads/2018/07/Lenoard-Cohen.png
END:VEVENT
END:VCALENDAR