
BEGIN:VCALENDAR
VERSION:2.0
PRODID:-//Knjižnica Cirila Kosmača Tolmin - ECPv5.16.4//NONSGML v1.0//EN
CALSCALE:GREGORIAN
METHOD:PUBLISH
X-WR-CALNAME:Knjižnica Cirila Kosmača Tolmin
X-ORIGINAL-URL:https://www.kcktolmin.si
X-WR-CALDESC:Events for Knjižnica Cirila Kosmača Tolmin
BEGIN:VTIMEZONE
TZID:Europe/Ljubljana
BEGIN:DAYLIGHT
TZOFFSETFROM:+0100
TZOFFSETTO:+0200
TZNAME:CEST
DTSTART:20170326T010000
END:DAYLIGHT
BEGIN:STANDARD
TZOFFSETFROM:+0200
TZOFFSETTO:+0100
TZNAME:CET
DTSTART:20171029T010000
END:STANDARD
END:VTIMEZONE
BEGIN:VEVENT
DTSTART;TZID=Europe/Ljubljana:20171026T170000
DTEND;TZID=Europe/Ljubljana:20171026T180000
DTSTAMP:20260420T140524
CREATED:20171006T071659Z
LAST-MODIFIED:20171006T071937Z
UID:5698-1509037200-1509040800@www.kcktolmin.si
SUMMARY:Mestno drevje v Tolminu – 2. javna delavnica
DESCRIPTION:Mestno drevje v Tolminu – javni delavnici sooblikovanja smernic za ravnanje z mestno drevnino \n\nNamen delavnic je prebivalcem in uporabnikom mestnih zelenih površin predstaviti stanje in dogajanje na področju mestne drevnine v preteklih 17 letih ter pridobiti mnenje javnosti. Zaključki delavnic\, ki ju bo vodila krajinska arhitektka Bojana Čibej\, bodo upoštevani pri oblikovanju ustreznih smernic ravnanja z mestno drevnino v prihodnosti. \n\n\n1. delavnica – petek\, 13. oktobra\, ob 17.00 v Knjižnici Cirila Kosmača Tolmin\nPrva delavnica bo predvsem izobraževalne narave. Udeležencem bodo na primeru dveh popisov mestne drevnine v Tolminu predstavljeni stanje\, trendi\, problemi in prednosti drevja v Tolminu\, pomen mestne drevnine s primeri upravljanja iz tujine ter predlagane smernice za ravnanje z drevnino. V drugem delu bodo udeleženci povabljeni k diskusiji o svojih izkušnjah in morebitnih novih zasaditvah zelenih površin v Tolminu\, za konec pa bodo lahko v anketi izrazili svoj pogled na mestno drevje v Tolminu. \n2. delavnica – četrtek\, 26. oktobra\, ob 17.00 v Knjižnici Cirila Kosmača Tolmin\nUdeležencem bomo predstavili rezultate ankete in s pomočjo mnenja udeležencev obeh delavnic skušali oblikovati predloge kriterijev za ravnanje z mestno drevnino\, ki bodo upoštevani pri smernicah. V organiziranem delu v skupinah bodo udeleženci grafično in pisno podali konkretne predloge novih ozelenitev v Tolminu in saditev drevja v ulicah\, kot sta Gregorčičeva in Prešernova ulica\, ter na nekaterih parkiriščih.
URL:https://www.kcktolmin.si/dogodek/mestno-drevje-v-tolminu-javna-delavnica-2/
LOCATION:Knjižnica Tolmin
CATEGORIES:Delavnica
ATTACH;FMTTYPE=image/jpeg:https://www.kcktolmin.si/wp-content/uploads/2017/10/Mestno-drevje.jpg
END:VEVENT
END:VCALENDAR