
BEGIN:VCALENDAR
VERSION:2.0
PRODID:-//Knjižnica Cirila Kosmača Tolmin - ECPv5.16.4//NONSGML v1.0//EN
CALSCALE:GREGORIAN
METHOD:PUBLISH
X-WR-CALNAME:Knjižnica Cirila Kosmača Tolmin
X-ORIGINAL-URL:https://www.kcktolmin.si
X-WR-CALDESC:Events for Knjižnica Cirila Kosmača Tolmin
BEGIN:VTIMEZONE
TZID:Europe/Ljubljana
BEGIN:DAYLIGHT
TZOFFSETFROM:+0100
TZOFFSETTO:+0200
TZNAME:CEST
DTSTART:20260329T010000
END:DAYLIGHT
BEGIN:STANDARD
TZOFFSETFROM:+0200
TZOFFSETTO:+0100
TZNAME:CET
DTSTART:20261025T010000
END:STANDARD
END:VTIMEZONE
BEGIN:VEVENT
DTSTART;TZID=Europe/Ljubljana:20260428T090000
DTEND;TZID=Europe/Ljubljana:20260430T140000
DTSTAMP:20260424T182559
CREATED:20260424T122541Z
LAST-MODIFIED:20260424T122612Z
UID:26188-1777366800-1777557600@www.kcktolmin.si
SUMMARY:Možnost uporabe virtualnih očal
DESCRIPTION:
URL:https://www.kcktolmin.si/dogodek/moznost-uporabe-virtualnih-ocal/
LOCATION:Knjižnica Kobarid
CATEGORIES:Ustvarjalna delavnica za otroke
ATTACH;FMTTYPE=image/png:https://www.kcktolmin.si/wp-content/uploads/2026/04/Posnetek-zaslona-2026-04-24-142438.png
END:VEVENT
END:VCALENDAR