
BEGIN:VCALENDAR
VERSION:2.0
PRODID:-//Knjižnica Cirila Kosmača Tolmin - ECPv5.16.4//NONSGML v1.0//EN
CALSCALE:GREGORIAN
METHOD:PUBLISH
X-WR-CALNAME:Knjižnica Cirila Kosmača Tolmin
X-ORIGINAL-URL:https://www.kcktolmin.si
X-WR-CALDESC:Events for Knjižnica Cirila Kosmača Tolmin
BEGIN:VTIMEZONE
TZID:Europe/Ljubljana
BEGIN:DAYLIGHT
TZOFFSETFROM:+0100
TZOFFSETTO:+0200
TZNAME:CEST
DTSTART:20210328T010000
END:DAYLIGHT
BEGIN:STANDARD
TZOFFSETFROM:+0200
TZOFFSETTO:+0100
TZNAME:CET
DTSTART:20211031T010000
END:STANDARD
END:VTIMEZONE
BEGIN:VEVENT
DTSTART;TZID=Europe/Ljubljana:20210928T190000
DTEND;TZID=Europe/Ljubljana:20210928T200000
DTSTAMP:20260420T083024
CREATED:20210927T191935Z
LAST-MODIFIED:20210927T192151Z
UID:14012-1632855600-1632859200@www.kcktolmin.si
SUMMARY:NEKOČ\, DANES ZA JUTRI: pripovedovanje ljudskih zgodb
DESCRIPTION:Vabimo vas na zaključek delavnice pripovedovanja ljudskih zgodb\, ki je potekala od 24. do 26. septembra v organizaciji zveze Mink.\n \nSkupaj z mentorico Renato Lapanja nam bosta ljudske zgodbe pripovedovala dva udeleženca delavnice\, Luka Ovsec in Kaja Rakušček.\n 
URL:https://www.kcktolmin.si/dogodek/nekoc-danes-za-jutri-pripovedovanje-ljudskih-zgodb/
LOCATION:Knjižnica Tolmin
CATEGORIES:Bralna kultura
ATTACH;FMTTYPE=image/jpeg:https://www.kcktolmin.si/wp-content/uploads/2021/09/Renata-Lapanja-rotated.jpg
END:VEVENT
END:VCALENDAR