
BEGIN:VCALENDAR
VERSION:2.0
PRODID:-//Knjižnica Cirila Kosmača Tolmin - ECPv5.16.4//NONSGML v1.0//EN
CALSCALE:GREGORIAN
METHOD:PUBLISH
X-WR-CALNAME:Knjižnica Cirila Kosmača Tolmin
X-ORIGINAL-URL:https://www.kcktolmin.si
X-WR-CALDESC:Events for Knjižnica Cirila Kosmača Tolmin
BEGIN:VTIMEZONE
TZID:Europe/Ljubljana
BEGIN:DAYLIGHT
TZOFFSETFROM:+0100
TZOFFSETTO:+0200
TZNAME:CEST
DTSTART:20160327T010000
END:DAYLIGHT
BEGIN:STANDARD
TZOFFSETFROM:+0200
TZOFFSETTO:+0100
TZNAME:CET
DTSTART:20161030T010000
END:STANDARD
END:VTIMEZONE
BEGIN:VEVENT
DTSTART;TZID=Europe/Ljubljana:20160209T190000
DTEND;TZID=Europe/Ljubljana:20160209T200000
DTSTAMP:20260420T034553
CREATED:20160119T193900Z
LAST-MODIFIED:20160201T104330Z
UID:3011-1455044400-1455048000@www.kcktolmin.si
SUMMARY:Odprtje likovne razstave Stojana Špegla
DESCRIPTION:Vabilo-Stojan Spegel \nStojan Špegel je diplomiral na Šoli za risanje in slikanje/ Arthouse- College of visual arts pri prof. Darku Slavcu. Je tudi vodja razstavišča Barbara v Velenju\, kjer je postavil že preko 180 razstav\, prav tako pa je bil 10 let vodja prireditve Ex tempore (130 udeležencev) in likovnih kolonij PV Velenje. Izdal je tri pesniške zbirke in objavljal pesmi v literarnih revijah. Sicer pa se je šolal tudi na Fakulteti za organizacijske vede v Kranju. \nDo sedaj je imel 22 samostojnih razstav in sodeloval na preko 70 skupinskih razstavah. Prejel je tudi 12 nagrad in priznanj. \nV galeriji tolminske knjižnice bodo na ogled slike iz ciklov Jaški in RazGLEDNICE. \n 
URL:https://www.kcktolmin.si/dogodek/odprtje-razstave-stojana-spegla/
LOCATION:Knjižnica Tolmin
CATEGORIES:Razstava
ATTACH;FMTTYPE=image/jpeg:https://www.kcktolmin.si/wp-content/uploads/2016/01/Špegel-Jaški-obrez.jpg
END:VEVENT
END:VCALENDAR