
BEGIN:VCALENDAR
VERSION:2.0
PRODID:-//Knjižnica Cirila Kosmača Tolmin - ECPv5.16.4//NONSGML v1.0//EN
CALSCALE:GREGORIAN
METHOD:PUBLISH
X-WR-CALNAME:Knjižnica Cirila Kosmača Tolmin
X-ORIGINAL-URL:https://www.kcktolmin.si
X-WR-CALDESC:Events for Knjižnica Cirila Kosmača Tolmin
BEGIN:VTIMEZONE
TZID:Europe/Ljubljana
BEGIN:DAYLIGHT
TZOFFSETFROM:+0100
TZOFFSETTO:+0200
TZNAME:CEST
DTSTART:20250330T010000
END:DAYLIGHT
BEGIN:STANDARD
TZOFFSETFROM:+0200
TZOFFSETTO:+0100
TZNAME:CET
DTSTART:20251026T010000
END:STANDARD
END:VTIMEZONE
BEGIN:VEVENT
DTSTART;TZID=Europe/Ljubljana:20251028T170000
DTEND;TZID=Europe/Ljubljana:20251028T170000
DTSTAMP:20260421T182741
CREATED:20251001T133840Z
LAST-MODIFIED:20251017T060612Z
UID:24346-1761670800-1761670800@www.kcktolmin.si
SUMMARY:Petra Škarja: Kako napisati in izdati knjigo
DESCRIPTION:Bralni klub Posoškega razvojnega centra in Knjižnica Tolmin vas vabita na srečanje s Petro Škarja. Tema srečanja bo Kako napisati in izdati knjigo – vabljeni pa ste vsi\, ne le tisti\, ki želite pisati\, temveč tudi tisti\, ki bi radi osebno spoznali avtorico. \nPetra Škarja je avtorica več knjižnih uspešnic\, njena knjiga Ameriški milijonarji so spregovorili je prevedena v več jezikov\, še posebej močan pečat pa je pustila knjiga Camino – Od suženjstva do svobode\, ki se je dotaknila mnogih bralcev. \nNa delavnici bo predstavila svoj proces pisanja\, pot izdaje knjige\, izzive samozaložbe ter številne konkretne izkušnje – tudi napake\, ki so jo veliko naučile. \nTo srečanje je priložnost za vse\, ki vas zanima ozadje pisanja\, izdajanja knjig ali pa si preprosto želite prisluhniti zanimivi sogovornici. \nZaradi organizacije so prijave obvezne na: https://prijave.snipi.si/7kKS6h7dep
URL:https://www.kcktolmin.si/dogodek/petra-skarja-kako-napisati-knjigo/
LOCATION:Knjižnica Tolmin
CATEGORIES:Bralna kultura
ATTACH;FMTTYPE=image/jpeg:https://www.kcktolmin.si/wp-content/uploads/2025/10/petra-skarja-naslovna_large.jpeg
END:VEVENT
END:VCALENDAR