
BEGIN:VCALENDAR
VERSION:2.0
PRODID:-//Knjižnica Cirila Kosmača Tolmin - ECPv5.16.4//NONSGML v1.0//EN
CALSCALE:GREGORIAN
METHOD:PUBLISH
X-WR-CALNAME:Knjižnica Cirila Kosmača Tolmin
X-ORIGINAL-URL:https://www.kcktolmin.si
X-WR-CALDESC:Events for Knjižnica Cirila Kosmača Tolmin
BEGIN:VTIMEZONE
TZID:Europe/Ljubljana
BEGIN:DAYLIGHT
TZOFFSETFROM:+0100
TZOFFSETTO:+0200
TZNAME:CEST
DTSTART:20200329T010000
END:DAYLIGHT
BEGIN:STANDARD
TZOFFSETFROM:+0200
TZOFFSETTO:+0100
TZNAME:CET
DTSTART:20201025T010000
END:STANDARD
END:VTIMEZONE
BEGIN:VEVENT
DTSTART;TZID=Europe/Ljubljana:20200108T190000
DTEND;TZID=Europe/Ljubljana:20200108T203000
DTSTAMP:20260420T033601
CREATED:20200106T072810Z
LAST-MODIFIED:20200106T072810Z
UID:10118-1578510000-1578515400@www.kcktolmin.si
SUMMARY:Planinski večer PD Tolmin - Joža Mihelič: Vprašaj goro
DESCRIPTION:Vabljeni na 4. planinski večer 2019/2020\, \npredavanje in predstavitev knjige \nJože Miheliča VPRAŠAJ GORO \nVabilo- MIHELIČ-Vprašaj goro_ 8_1
URL:https://www.kcktolmin.si/dogodek/planinski-vecer-januar-2020/
LOCATION:Knjižnica Tolmin
CATEGORIES:Potopis
ATTACH;FMTTYPE=image/jpeg:https://www.kcktolmin.si/wp-content/uploads/2015/11/markacija_1.jpg
END:VEVENT
END:VCALENDAR