
BEGIN:VCALENDAR
VERSION:2.0
PRODID:-//Knjižnica Cirila Kosmača Tolmin - ECPv5.16.4//NONSGML v1.0//EN
CALSCALE:GREGORIAN
METHOD:PUBLISH
X-WR-CALNAME:Knjižnica Cirila Kosmača Tolmin
X-ORIGINAL-URL:https://www.kcktolmin.si
X-WR-CALDESC:Events for Knjižnica Cirila Kosmača Tolmin
BEGIN:VTIMEZONE
TZID:Europe/Ljubljana
BEGIN:DAYLIGHT
TZOFFSETFROM:+0100
TZOFFSETTO:+0200
TZNAME:CEST
DTSTART:20240331T010000
END:DAYLIGHT
BEGIN:STANDARD
TZOFFSETFROM:+0200
TZOFFSETTO:+0100
TZNAME:CET
DTSTART:20241027T010000
END:STANDARD
END:VTIMEZONE
BEGIN:VEVENT
DTSTART;TZID=Europe/Ljubljana:20240207T190000
DTEND;TZID=Europe/Ljubljana:20240207T190000
DTSTAMP:20260422T105728
CREATED:20240115T142756Z
LAST-MODIFIED:20240206T133927Z
UID:19935-1707332400-1707332400@www.kcktolmin.si
SUMMARY:Franc Ceklin - Spominski večer ob 20-letnici slovesa planinskega in turističnega vizionarja
DESCRIPTION:Več o dogodku: \nhttps://www.pdtolmin.si/odseki/obvescanje-promocija-in-kultura/2437-5-zimski-planinski-vecer-pd-tolmin-sezona-2023-2024
URL:https://www.kcktolmin.si/dogodek/planinski-vecer/
LOCATION:Knjižnica Tolmin\, Tumov drevored 6\, Tolmin\, 5220\, Slovenija
CATEGORIES:Prireditev
ATTACH;FMTTYPE=image/jpeg:https://www.kcktolmin.si/wp-content/uploads/2015/11/markacija_1.jpg
END:VEVENT
END:VCALENDAR