
BEGIN:VCALENDAR
VERSION:2.0
PRODID:-//Knjižnica Cirila Kosmača Tolmin - ECPv5.16.4//NONSGML v1.0//EN
CALSCALE:GREGORIAN
METHOD:PUBLISH
X-WR-CALNAME:Knjižnica Cirila Kosmača Tolmin
X-ORIGINAL-URL:https://www.kcktolmin.si
X-WR-CALDESC:Events for Knjižnica Cirila Kosmača Tolmin
BEGIN:VTIMEZONE
TZID:Europe/Ljubljana
BEGIN:DAYLIGHT
TZOFFSETFROM:+0100
TZOFFSETTO:+0200
TZNAME:CEST
DTSTART:20240331T010000
END:DAYLIGHT
BEGIN:STANDARD
TZOFFSETFROM:+0200
TZOFFSETTO:+0100
TZNAME:CET
DTSTART:20241027T010000
END:STANDARD
END:VTIMEZONE
BEGIN:VEVENT
DTSTART;TZID=Europe/Ljubljana:20240829T093000
DTEND;TZID=Europe/Ljubljana:20240829T093000
DTSTAMP:20260420T121057
CREATED:20220629T155303Z
LAST-MODIFIED:20240826T110044Z
UID:20984-1724923800-1724923800@www.kcktolmin.si
SUMMARY:Poletna Lisica Mica pred Knjižnico Tolmin
DESCRIPTION:
URL:https://www.kcktolmin.si/dogodek/poletna-lisica-mica-pred-knjiznico-tolmin-3-2-2/
LOCATION:Knjižnica Tolmin
CATEGORIES:Bralna kultura za otroke,Ustvarjalna delavnica za otroke
ATTACH;FMTTYPE=image/jpeg:https://www.kcktolmin.si/wp-content/uploads/2019/03/lisica-mica-za-na-spletno-stran.jpg
END:VEVENT
END:VCALENDAR