
BEGIN:VCALENDAR
VERSION:2.0
PRODID:-//Knjižnica Cirila Kosmača Tolmin - ECPv5.16.4//NONSGML v1.0//EN
CALSCALE:GREGORIAN
METHOD:PUBLISH
X-WR-CALNAME:Knjižnica Cirila Kosmača Tolmin
X-ORIGINAL-URL:https://www.kcktolmin.si
X-WR-CALDESC:Events for Knjižnica Cirila Kosmača Tolmin
BEGIN:VTIMEZONE
TZID:Europe/Ljubljana
BEGIN:DAYLIGHT
TZOFFSETFROM:+0100
TZOFFSETTO:+0200
TZNAME:CEST
DTSTART:20200329T010000
END:DAYLIGHT
BEGIN:STANDARD
TZOFFSETFROM:+0200
TZOFFSETTO:+0100
TZNAME:CET
DTSTART:20201025T010000
END:STANDARD
END:VTIMEZONE
BEGIN:VEVENT
DTSTART;TZID=Europe/Ljubljana:20200827T100000
DTEND;TZID=Europe/Ljubljana:20200827T104500
DTSTAMP:20260421T120716
CREATED:20200819T131035Z
LAST-MODIFIED:20200819T131448Z
UID:11493-1598522400-1598525100@www.kcktolmin.si
SUMMARY:Poletna pravljica pred Knjižnico Tolmin 2020
DESCRIPTION:
URL:https://www.kcktolmin.si/dogodek/poletna-pravljica-pred-knjiznico-tolmin-2020/
CATEGORIES:Bralna kultura za otroke,Ustvarjalna delavnica za otroke
ATTACH;FMTTYPE=image/jpeg:https://www.kcktolmin.si/wp-content/uploads/2020/08/tolmin-naslovnica.jpg
END:VEVENT
END:VCALENDAR