
BEGIN:VCALENDAR
VERSION:2.0
PRODID:-//Knjižnica Cirila Kosmača Tolmin - ECPv5.16.4//NONSGML v1.0//EN
CALSCALE:GREGORIAN
METHOD:PUBLISH
X-WR-CALNAME:Knjižnica Cirila Kosmača Tolmin
X-ORIGINAL-URL:https://www.kcktolmin.si
X-WR-CALDESC:Events for Knjižnica Cirila Kosmača Tolmin
BEGIN:VTIMEZONE
TZID:Europe/Ljubljana
BEGIN:DAYLIGHT
TZOFFSETFROM:+0100
TZOFFSETTO:+0200
TZNAME:CEST
DTSTART:20200329T010000
END:DAYLIGHT
BEGIN:STANDARD
TZOFFSETFROM:+0200
TZOFFSETTO:+0100
TZNAME:CET
DTSTART:20201025T010000
END:STANDARD
END:VTIMEZONE
BEGIN:VEVENT
DTSTART;TZID=Europe/Ljubljana:20200819T103000
DTEND;TZID=Europe/Ljubljana:20200819T111500
DTSTAMP:20260421T103237
CREATED:20200813T060743Z
LAST-MODIFIED:20200813T060743Z
UID:11477-1597833000-1597835700@www.kcktolmin.si
SUMMARY:Poletne pravljice Bovec 2020
DESCRIPTION:
URL:https://www.kcktolmin.si/dogodek/poletne-pravljice-bovec-2020-3/
LOCATION:Knjižnica Bovec
CATEGORIES:Bralna kultura za otroke
ATTACH;FMTTYPE=image/jpeg:https://www.kcktolmin.si/wp-content/uploads/2020/07/bovec-naslovnica.jpg
ORGANIZER;CN="Knji%C5%BEnica%20Cirila%20Kosma%C4%8Da%20Tolmin%3A%20Knji%C5%BEnica%20Bovec":MAILTO:bovec@kcktolmin.si
END:VEVENT
END:VCALENDAR