
BEGIN:VCALENDAR
VERSION:2.0
PRODID:-//Knjižnica Cirila Kosmača Tolmin - ECPv5.16.4//NONSGML v1.0//EN
CALSCALE:GREGORIAN
METHOD:PUBLISH
X-WR-CALNAME:Knjižnica Cirila Kosmača Tolmin
X-ORIGINAL-URL:https://www.kcktolmin.si
X-WR-CALDESC:Events for Knjižnica Cirila Kosmača Tolmin
BEGIN:VTIMEZONE
TZID:Europe/Ljubljana
BEGIN:DAYLIGHT
TZOFFSETFROM:+0100
TZOFFSETTO:+0200
TZNAME:CEST
DTSTART:20190331T010000
END:DAYLIGHT
BEGIN:STANDARD
TZOFFSETFROM:+0200
TZOFFSETTO:+0100
TZNAME:CET
DTSTART:20191027T010000
END:STANDARD
END:VTIMEZONE
BEGIN:VEVENT
DTSTART;TZID=Europe/Ljubljana:20191216T180000
DTEND;TZID=Europe/Ljubljana:20191216T193000
DTSTAMP:20260419T155116
CREATED:20191007T115255Z
LAST-MODIFIED:20191206T070743Z
UID:9599-1576519200-1576524600@www.kcktolmin.si
SUMMARY:SPREMEMBA DATUMA! Poskrbite za svoje zdravje - Milan Hosta: Dihalnica
DESCRIPTION:Zaradi zadržanosti predavatelja je predavanje prestavljeno na ponedeljek\, 16. 12. 2019\, ob 18h. \nDIHALNICA\ndr. Milan Hosta\, športni pedagog\, filozof\, licenciran dihalni terapevt \nDr. Milan Hosta\, ki se že 20 let terapevtsko ukvarja z dihanjem\, je na podlagi Butejkove metode zdravilnega dihanja razvil celostno metodo soočanja s stresom\, čustvovanjem in nekaterimi kroničnimi simptomi šibkega zdravja. \nNa Dihalnici bo predavatelj razkril nekatere tipične vzorce odnosov in delovanja v izobraževalnem okolju in nasploh v sodobni družbi. Posebej bo izpostavil vpliv teh odnosov na ritem dihanja in posledično na zdravje in samozavedanje občutkov in izražanje čustev. Prikazal bo praktične vaje\, ki spodbujajo zavest o dihanju in razkrivajo ukoreninjene vzorce dihanja ob posameznih čustvenih stanjih. \nhttps://www.dihalnica.si/
URL:https://www.kcktolmin.si/dogodek/poskrbite-za-svoje-zdravje-dihalnica/
LOCATION:Knjižnica Tolmin\, Tumov drevored 6\, Tolmin\, 5220\, Slovenija
CATEGORIES:Predavanje
ATTACH;FMTTYPE=image/jpeg:https://www.kcktolmin.si/wp-content/uploads/2019/10/Dihalnica2.jpg
ORGANIZER;CN="Knji%C5%BEnica%20Cirila%20Kosma%C4%8Da%20Tolmin":MAILTO:prireditve@kcktolmin.si
END:VEVENT
END:VCALENDAR