
BEGIN:VCALENDAR
VERSION:2.0
PRODID:-//Knjižnica Cirila Kosmača Tolmin - ECPv5.16.4//NONSGML v1.0//EN
CALSCALE:GREGORIAN
METHOD:PUBLISH
X-WR-CALNAME:Knjižnica Cirila Kosmača Tolmin
X-ORIGINAL-URL:https://www.kcktolmin.si
X-WR-CALDESC:Events for Knjižnica Cirila Kosmača Tolmin
BEGIN:VTIMEZONE
TZID:Europe/Ljubljana
BEGIN:DAYLIGHT
TZOFFSETFROM:+0100
TZOFFSETTO:+0200
TZNAME:CEST
DTSTART:20160327T010000
END:DAYLIGHT
BEGIN:STANDARD
TZOFFSETFROM:+0200
TZOFFSETTO:+0100
TZNAME:CET
DTSTART:20161030T010000
END:STANDARD
END:VTIMEZONE
BEGIN:VEVENT
DTSTART;TZID=Europe/Ljubljana:20160119T190000
DTEND;TZID=Europe/Ljubljana:20160119T210000
DTSTAMP:20260420T101537
CREATED:20160106T143001Z
LAST-MODIFIED:20160107T162531Z
UID:2916-1453230000-1453237200@www.kcktolmin.si
SUMMARY:Poskrbite za svoje zdravje - Življenje po petdesetem - novi izzivi?
DESCRIPTION:ŽIVLJENJE PO PETDESETEM – NOVI IZZIVI?\nDragica Rejec Taljat\, dr. med.\, spec. gin. in por. \nObdobje plodnosti se v času klimakterija izteče in nastopi novo obdobje po menopavzi\, v katerem ženske ob podaljševanju življenjske dobe preživijo kar tretjino svojega življenja. Menopavzo zato lahko poimenujemo “pomlad druge polovice življenja”\, v kateri ženska po zaključeni biološki vlogi rojevanja z izkušnjami in pridobljeno modrostjo uresničuje svoje načrte in želje. Novo obdobje življenja prinese tako dobre kot slabe plati. Seveda je najpomembnejše\, da znamo slabe premagovati in se predvsem veseliti dobrih. In največ razlogov za veselje imajo po mnenju strokovnjakov ženske\, ki so vstopile v šesto desetletje življenja. \n \nZgibanka Poskrbite za svoje zdravje
URL:https://www.kcktolmin.si/dogodek/posrbite-za-svoje-zdravje-zivljenje-po-petdesetem-novi-izzivi/
LOCATION:Knjižnica Tolmin
ATTACH;FMTTYPE=image/jpeg:https://www.kcktolmin.si/wp-content/uploads/2016/01/Taljat.jpg
END:VEVENT
END:VCALENDAR