
BEGIN:VCALENDAR
VERSION:2.0
PRODID:-//Knjižnica Cirila Kosmača Tolmin - ECPv5.16.4//NONSGML v1.0//EN
CALSCALE:GREGORIAN
METHOD:PUBLISH
X-WR-CALNAME:Knjižnica Cirila Kosmača Tolmin
X-ORIGINAL-URL:https://www.kcktolmin.si
X-WR-CALDESC:Events for Knjižnica Cirila Kosmača Tolmin
BEGIN:VTIMEZONE
TZID:Europe/Ljubljana
BEGIN:DAYLIGHT
TZOFFSETFROM:+0100
TZOFFSETTO:+0200
TZNAME:CEST
DTSTART:20240331T010000
END:DAYLIGHT
BEGIN:STANDARD
TZOFFSETFROM:+0200
TZOFFSETTO:+0100
TZNAME:CET
DTSTART:20241027T010000
END:STANDARD
END:VTIMEZONE
BEGIN:VEVENT
DTSTART;TZID=Europe/Ljubljana:20240223T180000
DTEND;TZID=Europe/Ljubljana:20240223T180000
DTSTAMP:20260420T160734
CREATED:20230929T114111Z
LAST-MODIFIED:20240214T072144Z
UID:19118-1708711200-1708711200@www.kcktolmin.si
SUMMARY:Povratna vozovnica - Anže Samec (Kolumbija)
DESCRIPTION:
URL:https://www.kcktolmin.si/dogodek/povratna-vozovnica-anze-samec-kolumbija/
LOCATION:Knjižnica Tolmin
CATEGORIES:Potopis
ATTACH;FMTTYPE=image/png:https://www.kcktolmin.si/wp-content/uploads/2023/09/Artboard-20kolumbija.png
ORGANIZER;CN="Knji%C5%BEnica%20Cirila%20Kosma%C4%8Da%20Tolmin":MAILTO:prireditve@kcktolmin.si
END:VEVENT
END:VCALENDAR