
BEGIN:VCALENDAR
VERSION:2.0
PRODID:-//Knjižnica Cirila Kosmača Tolmin - ECPv5.16.4//NONSGML v1.0//EN
CALSCALE:GREGORIAN
METHOD:PUBLISH
X-WR-CALNAME:Knjižnica Cirila Kosmača Tolmin
X-ORIGINAL-URL:https://www.kcktolmin.si
X-WR-CALDESC:Events for Knjižnica Cirila Kosmača Tolmin
BEGIN:VTIMEZONE
TZID:Europe/Ljubljana
BEGIN:DAYLIGHT
TZOFFSETFROM:+0100
TZOFFSETTO:+0200
TZNAME:CEST
DTSTART:20240331T010000
END:DAYLIGHT
BEGIN:STANDARD
TZOFFSETFROM:+0200
TZOFFSETTO:+0100
TZNAME:CET
DTSTART:20241027T010000
END:STANDARD
END:VTIMEZONE
BEGIN:VEVENT
DTSTART;TZID=Europe/Ljubljana:20241129T170000
DTEND;TZID=Europe/Ljubljana:20241129T170000
DTSTAMP:20260421T052944
CREATED:20241010T130203Z
LAST-MODIFIED:20241126T105358Z
UID:21884-1732899600-1732899600@www.kcktolmin.si
SUMMARY:Povratna vozovnica - Antarktika (Barbara Popit)
DESCRIPTION:Povratna vozovnica 2024/25
URL:https://www.kcktolmin.si/dogodek/povratna-vozovnica-objem-polarnega-2/
LOCATION:Knjižnica Tolmin\, Tumov drevored 6\, Tolmin\, 5220\, Slovenija
CATEGORIES:Potopis
ATTACH;FMTTYPE=image/png:https://www.kcktolmin.si/wp-content/uploads/2024/10/Artboard-40-Povratna-Barbara-KATV.png
END:VEVENT
END:VCALENDAR