
BEGIN:VCALENDAR
VERSION:2.0
PRODID:-//Knjižnica Cirila Kosmača Tolmin - ECPv5.16.4//NONSGML v1.0//EN
CALSCALE:GREGORIAN
METHOD:PUBLISH
X-WR-CALNAME:Knjižnica Cirila Kosmača Tolmin
X-ORIGINAL-URL:https://www.kcktolmin.si
X-WR-CALDESC:Events for Knjižnica Cirila Kosmača Tolmin
BEGIN:VTIMEZONE
TZID:Europe/Ljubljana
BEGIN:DAYLIGHT
TZOFFSETFROM:+0100
TZOFFSETTO:+0200
TZNAME:CEST
DTSTART:20170326T010000
END:DAYLIGHT
BEGIN:STANDARD
TZOFFSETFROM:+0200
TZOFFSETTO:+0100
TZNAME:CET
DTSTART:20171029T010000
END:STANDARD
END:VTIMEZONE
BEGIN:VEVENT
DTSTART;TZID=Europe/Ljubljana:20171027T180000
DTEND;TZID=Europe/Ljubljana:20171027T200000
DTSTAMP:20260420T141801
CREATED:20170104T134513Z
LAST-MODIFIED:20171020T172533Z
UID:5760-1509127200-1509134400@www.kcktolmin.si
SUMMARY:Povratna vozovnica - Tomaž Hožič: Japonsko poletje
DESCRIPTION:Poletni utrip Japonske bomo spoznali najprej v Osaki\, prestolnici pokrajine Kansai\, in mestu Sendai s tradicionalnim festivalom Tanabata. Vlak nas bo popeljal skozi najdaljši podmorski železniški predor Seikan\, v mestu Hakodate bomo spoznavali zanimivo ljudstvo Ainu ter obiskali najbolj severno točko Japonske\, rt Soya. Sledili bodo še obiski mest Wakkanai\, Tokio s križišči četrti Shibuya\, Nagoyi z železničarskim muzejem in starodavno cesarsko mesto Kyoto s četrtjo Gion\, kjer živijo in delajo gejše. \n 
URL:https://www.kcktolmin.si/dogodek/povratna-vozovnica-tomaz-hozic-japonsko-poletje/
LOCATION:Knjižnica Tolmin
CATEGORIES:Potopis
ATTACH;FMTTYPE=image/jpeg:https://www.kcktolmin.si/wp-content/uploads/2017/01/Ainu.jpg
END:VEVENT
END:VCALENDAR