
BEGIN:VCALENDAR
VERSION:2.0
PRODID:-//Knjižnica Cirila Kosmača Tolmin - ECPv5.16.4//NONSGML v1.0//EN
CALSCALE:GREGORIAN
METHOD:PUBLISH
X-WR-CALNAME:Knjižnica Cirila Kosmača Tolmin
X-ORIGINAL-URL:https://www.kcktolmin.si
X-WR-CALDESC:Events for Knjižnica Cirila Kosmača Tolmin
BEGIN:VTIMEZONE
TZID:Europe/Ljubljana
BEGIN:DAYLIGHT
TZOFFSETFROM:+0100
TZOFFSETTO:+0200
TZNAME:CEST
DTSTART:20160327T010000
END:DAYLIGHT
BEGIN:STANDARD
TZOFFSETFROM:+0200
TZOFFSETTO:+0100
TZNAME:CET
DTSTART:20161030T010000
END:STANDARD
END:VTIMEZONE
BEGIN:VEVENT
DTSTART;TZID=Europe/Ljubljana:20160226T190000
DTEND;TZID=Europe/Ljubljana:20160226T203000
DTSTAMP:20260420T023359
CREATED:20160119T192105Z
LAST-MODIFIED:20160119T192105Z
UID:3007-1456513200-1456518600@www.kcktolmin.si
SUMMARY:Povratna vozovnica - Transibirska železnica
DESCRIPTION:Zoran Furman\nTRANSIBIRSKA ŽELEZNICA\nOd Moskve do Pekinga \nVeč kot 7600 km dolgo potovanje z vlakom bomo pričeli v Moskvi. Po ogledu Rdečega trga\, Kremlja in katedrale Sv. Vasilija se bomo podali na 5 dni dolgo vožnjo do Mongolije. V prestolnico Ulan Bator bomo prispeli ravno v času Naadama\, najbolj znanega mongolskega festivala\, imenovanega tudi nomadske olimpijske igre. Vožnjo z vlakom bomo nadaljevali proti kitajski prestolnici Peking\, si ogledali Kitajski zid\, mesto Xian ter potovanje zaključili v Šanghaju.
URL:https://www.kcktolmin.si/dogodek/povratna-vozovnica-transibirska-zeleznica/
LOCATION:Knjižnica Tolmin
CATEGORIES:Potopis
ATTACH;FMTTYPE=image/jpeg:https://www.kcktolmin.si/wp-content/uploads/2016/01/Transkibirska.jpg
END:VEVENT
END:VCALENDAR