
BEGIN:VCALENDAR
VERSION:2.0
PRODID:-//Knjižnica Cirila Kosmača Tolmin - ECPv5.16.4//NONSGML v1.0//EN
CALSCALE:GREGORIAN
METHOD:PUBLISH
X-WR-CALNAME:Knjižnica Cirila Kosmača Tolmin
X-ORIGINAL-URL:https://www.kcktolmin.si
X-WR-CALDESC:Events for Knjižnica Cirila Kosmača Tolmin
BEGIN:VTIMEZONE
TZID:Europe/Ljubljana
BEGIN:DAYLIGHT
TZOFFSETFROM:+0100
TZOFFSETTO:+0200
TZNAME:CEST
DTSTART:20240331T010000
END:DAYLIGHT
BEGIN:STANDARD
TZOFFSETFROM:+0200
TZOFFSETTO:+0100
TZNAME:CET
DTSTART:20241027T010000
END:STANDARD
END:VTIMEZONE
BEGIN:VEVENT
DTSTART;TZID=Europe/Ljubljana:20240228T173000
DTEND;TZID=Europe/Ljubljana:20240228T173000
DTSTAMP:20260420T175151
CREATED:20240226T104359Z
LAST-MODIFIED:20240226T104359Z
UID:20183-1709141400-1709141400@www.kcktolmin.si
SUMMARY:Povratna vozovnica - Z morjem v zenici očesa (Mitja Zupančič)
DESCRIPTION:
URL:https://www.kcktolmin.si/dogodek/povratna-vozovnica-z-morjem-v-zenici-ocesa-mitja-zupancic/
LOCATION:Kulturni dom Bovec\, Ledina 6\, Bovec\, 5230
CATEGORIES:Potopis
ATTACH;FMTTYPE=image/png:https://www.kcktolmin.si/wp-content/uploads/2024/02/Artboard-22_povratna_vozovnica_Mitja_zupancic_Bovec.png
END:VEVENT
END:VCALENDAR