
BEGIN:VCALENDAR
VERSION:2.0
PRODID:-//Knjižnica Cirila Kosmača Tolmin - ECPv5.16.4//NONSGML v1.0//EN
CALSCALE:GREGORIAN
METHOD:PUBLISH
X-WR-CALNAME:Knjižnica Cirila Kosmača Tolmin
X-ORIGINAL-URL:https://www.kcktolmin.si
X-WR-CALDESC:Events for Knjižnica Cirila Kosmača Tolmin
BEGIN:VTIMEZONE
TZID:Europe/Ljubljana
BEGIN:DAYLIGHT
TZOFFSETFROM:+0100
TZOFFSETTO:+0200
TZNAME:CEST
DTSTART:20240331T010000
END:DAYLIGHT
BEGIN:STANDARD
TZOFFSETFROM:+0200
TZOFFSETTO:+0100
TZNAME:CET
DTSTART:20241027T010000
END:STANDARD
END:VTIMEZONE
BEGIN:VEVENT
DTSTART;TZID=Europe/Ljubljana:20240311T170000
DTEND;TZID=Europe/Ljubljana:20240311T170000
DTSTAMP:20260420T035919
CREATED:20240304T122254Z
LAST-MODIFIED:20240304T122254Z
UID:20211-1710176400-1710176400@www.kcktolmin.si
SUMMARY:Pravljice iz Benečije (Marina Cernetig in Ada Tomasetig)
DESCRIPTION:
URL:https://www.kcktolmin.si/dogodek/pravljice-iz-benecije-marina-cernetig-in-ada-tomasetig/
LOCATION:Knjižnica Kobarid
CATEGORIES:Bralna kultura za otroke
ATTACH;FMTTYPE=image/jpeg:https://www.kcktolmin.si/wp-content/uploads/2024/03/vabilo_benecija24_evabilo.jpg
END:VEVENT
END:VCALENDAR