
BEGIN:VCALENDAR
VERSION:2.0
PRODID:-//Knjižnica Cirila Kosmača Tolmin - ECPv5.16.4//NONSGML v1.0//EN
CALSCALE:GREGORIAN
METHOD:PUBLISH
X-WR-CALNAME:Knjižnica Cirila Kosmača Tolmin
X-ORIGINAL-URL:https://www.kcktolmin.si
X-WR-CALDESC:Events for Knjižnica Cirila Kosmača Tolmin
BEGIN:VTIMEZONE
TZID:Europe/Ljubljana
BEGIN:DAYLIGHT
TZOFFSETFROM:+0100
TZOFFSETTO:+0200
TZNAME:CEST
DTSTART:20230326T010000
END:DAYLIGHT
BEGIN:STANDARD
TZOFFSETFROM:+0200
TZOFFSETTO:+0100
TZNAME:CET
DTSTART:20231029T010000
END:STANDARD
END:VTIMEZONE
BEGIN:VEVENT
DTSTART;TZID=Europe/Ljubljana:20231020T170000
DTEND;TZID=Europe/Ljubljana:20231020T180000
DTSTAMP:20260419T233845
CREATED:20231002T060738Z
LAST-MODIFIED:20231019T120228Z
UID:19139-1697821200-1697824800@www.kcktolmin.si
SUMMARY:Pravljice z Lisico Mico
DESCRIPTION:
URL:https://www.kcktolmin.si/dogodek/pravljice-z-lisico-mico-v-bovcu-10/
LOCATION:Knjižnica Bovec
CATEGORIES:Bralna kultura za otroke
ATTACH;FMTTYPE=image/png:https://www.kcktolmin.si/wp-content/uploads/2023/10/Bovec_odpade.png
END:VEVENT
END:VCALENDAR