
BEGIN:VCALENDAR
VERSION:2.0
PRODID:-//Knjižnica Cirila Kosmača Tolmin - ECPv5.16.4//NONSGML v1.0//EN
CALSCALE:GREGORIAN
METHOD:PUBLISH
X-WR-CALNAME:Knjižnica Cirila Kosmača Tolmin
X-ORIGINAL-URL:https://www.kcktolmin.si
X-WR-CALDESC:Events for Knjižnica Cirila Kosmača Tolmin
BEGIN:VTIMEZONE
TZID:Europe/Ljubljana
BEGIN:DAYLIGHT
TZOFFSETFROM:+0100
TZOFFSETTO:+0200
TZNAME:CEST
DTSTART:20160327T010000
END:DAYLIGHT
BEGIN:STANDARD
TZOFFSETFROM:+0200
TZOFFSETTO:+0100
TZNAME:CET
DTSTART:20161030T010000
END:STANDARD
END:VTIMEZONE
BEGIN:VEVENT
DTSTART;TZID=Europe/Ljubljana:20161012T190000
DTEND;TZID=Europe/Ljubljana:20161012T210000
DTSTAMP:20260420T130940
CREATED:20160928T134619Z
LAST-MODIFIED:20161010T115722Z
UID:4056-1476298800-1476306000@www.kcktolmin.si
SUMMARY:Predavanje PD Tolmin - Manca Čujež: Nepal po potresu
DESCRIPTION:Vabljeni na prvi zimski večer PD Tolmin. \nManca Čujež:\nZa dva groša fantazije: Nepal po potresu \nVabilo-Manca-Čujež
URL:https://www.kcktolmin.si/dogodek/predavanje-pd-tolmin-manca-cujez-nepal-po-potresu/
LOCATION:Knjižnica Tolmin
CATEGORIES:Potopis
ATTACH;FMTTYPE=image/jpeg:https://www.kcktolmin.si/wp-content/uploads/2015/11/markacija_1.jpg
END:VEVENT
END:VCALENDAR