
BEGIN:VCALENDAR
VERSION:2.0
PRODID:-//Knjižnica Cirila Kosmača Tolmin - ECPv5.16.4//NONSGML v1.0//EN
CALSCALE:GREGORIAN
METHOD:PUBLISH
X-WR-CALNAME:Knjižnica Cirila Kosmača Tolmin
X-ORIGINAL-URL:https://www.kcktolmin.si
X-WR-CALDESC:Events for Knjižnica Cirila Kosmača Tolmin
BEGIN:VTIMEZONE
TZID:Europe/Ljubljana
BEGIN:DAYLIGHT
TZOFFSETFROM:+0100
TZOFFSETTO:+0200
TZNAME:CEST
DTSTART:20250330T010000
END:DAYLIGHT
BEGIN:STANDARD
TZOFFSETFROM:+0200
TZOFFSETTO:+0100
TZNAME:CET
DTSTART:20251026T010000
END:STANDARD
END:VTIMEZONE
BEGIN:VEVENT
DTSTART;TZID=Europe/Ljubljana:20250402T100000
DTEND;TZID=Europe/Ljubljana:20250402T103000
DTSTAMP:20260420T001129
CREATED:20250327T093953Z
LAST-MODIFIED:20250331T141557Z
UID:22926-1743588000-1743589800@www.kcktolmin.si
SUMMARY:Predstava za otroke Darko Smetarko
DESCRIPTION:
URL:https://www.kcktolmin.si/dogodek/predstava-za-otroke-iz-vrtca-bovec-in-1-triade-os-bovec/
LOCATION:Knjižnica Bovec
CATEGORIES:Predstava za otroke
ORGANIZER;CN="Knji%C5%BEnica%20Cirila%20Kosma%C4%8Da%20Tolmin%2C%20oddelek%20Bovec":MAILTO:bovec@kcktolmin.si
END:VEVENT
END:VCALENDAR