
BEGIN:VCALENDAR
VERSION:2.0
PRODID:-//Knjižnica Cirila Kosmača Tolmin - ECPv5.16.4//NONSGML v1.0//EN
CALSCALE:GREGORIAN
METHOD:PUBLISH
X-WR-CALNAME:Knjižnica Cirila Kosmača Tolmin
X-ORIGINAL-URL:https://www.kcktolmin.si
X-WR-CALDESC:Events for Knjižnica Cirila Kosmača Tolmin
BEGIN:VTIMEZONE
TZID:Europe/Ljubljana
BEGIN:DAYLIGHT
TZOFFSETFROM:+0100
TZOFFSETTO:+0200
TZNAME:CEST
DTSTART:20160327T010000
END:DAYLIGHT
BEGIN:STANDARD
TZOFFSETFROM:+0200
TZOFFSETTO:+0100
TZNAME:CET
DTSTART:20161030T010000
END:STANDARD
END:VTIMEZONE
BEGIN:VEVENT
DTSTART;TZID=Europe/Ljubljana:20160611T170000
DTEND;TZID=Europe/Ljubljana:20160611T190000
DTSTAMP:20260421T140536
CREATED:20160602T120400Z
LAST-MODIFIED:20160602T120511Z
UID:3656-1465664400-1465671600@www.kcktolmin.si
SUMMARY:Predstavitev Južnočeške regije in njenih kulturnih ustanov
DESCRIPTION:Na prireditvi bo predstavljena kulturna dediščina Južnočeške regije\, med drugim muzeji\, galerije\, gledališča\, filharmonija\, znanstvena knjižnica\, živalski vrt\, planetarij in observatorij. Predstavili se bodo češko kulturno društvo Češki levi in slovensko društvo Generala Borojeviča\, ki sta sodelovali pri obnovi spomenika\, ter občina Tolmin. \nPo predstavitvi bo sledila slavnostna pogostitev s tradicionalno slovensko kulinariko in pokušino češkega piva. Za glasbeno spremljavo bo poskrbela češka glasbena skupina Pouličníci iz mesta Tábor. \nOrganizatorji vljudno prosijo\, da svojo udeležbo potrdite najkasneje do 6. junija 2016 na elektronski naslov jana_snytova@mzv.cz. \nPrireditev nastaja v okviru slovesnega odkritja obnovljenega spomenika padlim vojakom 91. pešpolka iz Čeških Budejovic 11. junija 2016 ob 12h na Mrzlem vrhu.
URL:https://www.kcktolmin.si/dogodek/predstavitev-juznoceske-regije-in-njenih-kulturnih-ustanov/
LOCATION:Knjižnica Tolmin
CATEGORIES:Prireditev
ATTACH;FMTTYPE=image/jpeg:https://www.kcktolmin.si/wp-content/uploads/2016/06/svejk5-1.jpg
END:VEVENT
END:VCALENDAR