
BEGIN:VCALENDAR
VERSION:2.0
PRODID:-//Knjižnica Cirila Kosmača Tolmin - ECPv5.16.4//NONSGML v1.0//EN
CALSCALE:GREGORIAN
METHOD:PUBLISH
X-WR-CALNAME:Knjižnica Cirila Kosmača Tolmin
X-ORIGINAL-URL:https://www.kcktolmin.si
X-WR-CALDESC:Events for Knjižnica Cirila Kosmača Tolmin
BEGIN:VTIMEZONE
TZID:Europe/Ljubljana
BEGIN:DAYLIGHT
TZOFFSETFROM:+0100
TZOFFSETTO:+0200
TZNAME:CEST
DTSTART:20250330T010000
END:DAYLIGHT
BEGIN:STANDARD
TZOFFSETFROM:+0200
TZOFFSETTO:+0100
TZNAME:CET
DTSTART:20251026T010000
END:STANDARD
END:VTIMEZONE
BEGIN:VEVENT
DTSTART;TZID=Europe/Ljubljana:20250325T180000
DTEND;TZID=Europe/Ljubljana:20250325T180000
DTSTAMP:20260420T133254
CREATED:20250319T142154Z
LAST-MODIFIED:20250320T084916Z
UID:22829-1742925600-1742925600@www.kcktolmin.si
SUMMARY:Predstavitev knjige Boštjana M. Turka: Jetniki svobode
DESCRIPTION:VSO OO Zgornje Posočje – pogovorni večer_Boštjan M. Turk_vabilo (1)
URL:https://www.kcktolmin.si/dogodek/predstavitev-knjige-bostjana-m-turka-ujetniki-svobode/
LOCATION:Knjižnica Tolmin
CATEGORIES:Bralna kultura
END:VEVENT
END:VCALENDAR