
BEGIN:VCALENDAR
VERSION:2.0
PRODID:-//Knjižnica Cirila Kosmača Tolmin - ECPv5.16.4//NONSGML v1.0//EN
CALSCALE:GREGORIAN
METHOD:PUBLISH
X-WR-CALNAME:Knjižnica Cirila Kosmača Tolmin
X-ORIGINAL-URL:https://www.kcktolmin.si
X-WR-CALDESC:Events for Knjižnica Cirila Kosmača Tolmin
BEGIN:VTIMEZONE
TZID:Europe/Ljubljana
BEGIN:DAYLIGHT
TZOFFSETFROM:+0100
TZOFFSETTO:+0200
TZNAME:CEST
DTSTART:20150329T010000
END:DAYLIGHT
BEGIN:STANDARD
TZOFFSETFROM:+0200
TZOFFSETTO:+0100
TZNAME:CET
DTSTART:20151025T010000
END:STANDARD
END:VTIMEZONE
BEGIN:VEVENT
DTSTART;TZID=Europe/Ljubljana:20150904T190000
DTEND;TZID=Europe/Ljubljana:20150904T210000
DTSTAMP:20260420T145646
CREATED:20150902T094921Z
LAST-MODIFIED:20150925T183821Z
UID:2199-1441393200-1441400400@www.kcktolmin.si
SUMMARY:Predstavitev odprave v Nepal
DESCRIPTION:Turistično športno društvo Gams iz Kobarida v oktobru 2015 načrtuje odpravo v Nepal. Njihov prvenstveni cilj je pomoč prizadetim v potresu. \nČlani odprave vas vabijo na predstavitev odprave in na potopisno predavanje o Nepalu in Tibetu v Knjižnico Tolmin v petek\, 4. septembra\, ob 19h.
URL:https://www.kcktolmin.si/dogodek/predstavitev-odprave-v-nepal/
LOCATION:Knjižnica Tolmin
CATEGORIES:Potopis
ATTACH;FMTTYPE=image/jpeg:https://www.kcktolmin.si/wp-content/uploads/2015/09/Potopisno-predavanje-o-Nepalu-in-Tibetu-page-001.jpg
END:VEVENT
END:VCALENDAR