
BEGIN:VCALENDAR
VERSION:2.0
PRODID:-//Knjižnica Cirila Kosmača Tolmin - ECPv5.16.4//NONSGML v1.0//EN
CALSCALE:GREGORIAN
METHOD:PUBLISH
X-WR-CALNAME:Knjižnica Cirila Kosmača Tolmin
X-ORIGINAL-URL:https://www.kcktolmin.si
X-WR-CALDESC:Events for Knjižnica Cirila Kosmača Tolmin
BEGIN:VTIMEZONE
TZID:Europe/Ljubljana
BEGIN:DAYLIGHT
TZOFFSETFROM:+0100
TZOFFSETTO:+0200
TZNAME:CEST
DTSTART:20240331T010000
END:DAYLIGHT
BEGIN:STANDARD
TZOFFSETFROM:+0200
TZOFFSETTO:+0100
TZNAME:CET
DTSTART:20241027T010000
END:STANDARD
END:VTIMEZONE
BEGIN:VEVENT
DTSTART;TZID=Europe/Ljubljana:20240903T090000
DTEND;TZID=Europe/Ljubljana:20240903T090000
DTSTAMP:20260420T083751
CREATED:20240503T131420Z
LAST-MODIFIED:20240827T152700Z
UID:21171-1725354000-1725354000@www.kcktolmin.si
SUMMARY:Primorci beremo ... ob skodelici kave
DESCRIPTION:
URL:https://www.kcktolmin.si/dogodek/primorci-beremo-ob-skodelici-kave-2024-09/
LOCATION:Knjižnica Tolmin
CATEGORIES:Bralna kultura
ATTACH;FMTTYPE=image/png:https://www.kcktolmin.si/wp-content/uploads/2024/05/Artboard-8PB-2024-avgust.png
END:VEVENT
END:VCALENDAR