
BEGIN:VCALENDAR
VERSION:2.0
PRODID:-//Knjižnica Cirila Kosmača Tolmin - ECPv5.16.4//NONSGML v1.0//EN
CALSCALE:GREGORIAN
METHOD:PUBLISH
X-WR-CALNAME:Knjižnica Cirila Kosmača Tolmin
X-ORIGINAL-URL:https://www.kcktolmin.si
X-WR-CALDESC:Events for Knjižnica Cirila Kosmača Tolmin
BEGIN:VTIMEZONE
TZID:Europe/Ljubljana
BEGIN:DAYLIGHT
TZOFFSETFROM:+0100
TZOFFSETTO:+0200
TZNAME:CEST
DTSTART:20180325T010000
END:DAYLIGHT
BEGIN:STANDARD
TZOFFSETFROM:+0200
TZOFFSETTO:+0100
TZNAME:CET
DTSTART:20181028T010000
END:STANDARD
END:VTIMEZONE
BEGIN:VEVENT
DTSTART;TZID=Europe/Ljubljana:20180828T193000
DTEND;TZID=Europe/Ljubljana:20180828T204000
DTSTAMP:20260419T155416
CREATED:20180705T110308Z
LAST-MODIFIED:20180705T110308Z
UID:7065-1535484600-1535488800@www.kcktolmin.si
SUMMARY:Kino pod brezami - Rdeča želva
DESCRIPTION:RDEČA ŽELVA (La Tortue rouge)\, animirani\, brez dialogov\, 80 min\nRežija: Michaël Dudok de Wit \nPresunljiva\, poetična animirana alegorija o večnem kroženju življenja\, človekovi povezanosti z naravo ter globokih vezeh družine in ljubezni. Film je nagrajen in izjemno sprejet s strani mladih občinstev. \nPRED FILMOM: ob 19.00 ustvarjalna delavnica za otroke (slikanje želv na kamenčke). \nV primeru dežja bo dogodek prestavljen v Kino Tolmin. \nVeč o Kinu pod brezami: https://www.kcktolmin.si/prihaja-kino-pod-brezami-2018/
URL:https://www.kcktolmin.si/dogodek/rdeca-zelva/
LOCATION:Knjižnica Tolmin
CATEGORIES:Film
ATTACH;FMTTYPE=image/jpeg:https://www.kcktolmin.si/wp-content/uploads/2018/07/kino03_rdeca-zelva_n.jpg
END:VEVENT
END:VCALENDAR