
BEGIN:VCALENDAR
VERSION:2.0
PRODID:-//Knjižnica Cirila Kosmača Tolmin - ECPv5.16.4//NONSGML v1.0//EN
CALSCALE:GREGORIAN
METHOD:PUBLISH
X-WR-CALNAME:Knjižnica Cirila Kosmača Tolmin
X-ORIGINAL-URL:https://www.kcktolmin.si
X-WR-CALDESC:Events for Knjižnica Cirila Kosmača Tolmin
BEGIN:VTIMEZONE
TZID:Europe/Ljubljana
BEGIN:DAYLIGHT
TZOFFSETFROM:+0100
TZOFFSETTO:+0200
TZNAME:CEST
DTSTART:20240331T010000
END:DAYLIGHT
BEGIN:STANDARD
TZOFFSETFROM:+0200
TZOFFSETTO:+0100
TZNAME:CET
DTSTART:20241027T010000
END:STANDARD
END:VTIMEZONE
BEGIN:VEVENT
DTSTART;TZID=Europe/Ljubljana:20240611T190000
DTEND;TZID=Europe/Ljubljana:20240611T190000
DTSTAMP:20260421T142633
CREATED:20240604T081539Z
LAST-MODIFIED:20240604T081739Z
UID:20717-1718132400-1718132400@www.kcktolmin.si
SUMMARY:Skrivno življenje krav (dogodek ob izidu knjige)
DESCRIPTION:Rosamund Young s partnerjem gospodari na kmetiji Škarnikovo gnezdo\, The Kite’s Nest Farm\, na robu Cotswoldskega gričevja\, približno 150 kilometrov severozahodno od Londona. Na 154 hektarov veliki kmetiji redijo okoli 85 glav živine in 250 ovc. Ukvarjajo se s prirejo ekološke pašne govedine in ovčetine. Knjiga prinaša razmišljanje in zgodbe o kravah in nekaterih drugih domačih živalih z angleškega podeželja. Prav lahko pa bi se vse skupaj dogajalo tudi na kmetiji v Sloveniji. \nDodatek k slovenski izdaji knjige se osredinja na dolgo zgodovino sobivanja krav in ljudi\, vse od turov iz dolin rek Evfrat in Tigris do pregleda govedoreje na slovenskih tleh. Spremni zapis sta pripravila Barbara Sosič in dr. Žiga Zwitter s sodelovanjem dr. Boruta Toškana. \nSkrivno življenje krav – letak
URL:https://www.kcktolmin.si/dogodek/skrivno-zivljenje-krav-dogodek-ob-izidu-knjige/
LOCATION:Tolmin\, Gasa\, štala Pr Mikarju
CATEGORIES:Predstavitev knjige
ATTACH;FMTTYPE=image/jpeg:https://www.kcktolmin.si/wp-content/uploads/2024/06/naslovka-page-001.jpg
ORGANIZER;CN="Knji%C5%BEnica%20Cirila%20Kosma%C4%8Da%20Tolmin":MAILTO:prireditve@kcktolmin.si
END:VEVENT
END:VCALENDAR