
BEGIN:VCALENDAR
VERSION:2.0
PRODID:-//Knjižnica Cirila Kosmača Tolmin - ECPv5.16.4//NONSGML v1.0//EN
CALSCALE:GREGORIAN
METHOD:PUBLISH
X-WR-CALNAME:Knjižnica Cirila Kosmača Tolmin
X-ORIGINAL-URL:https://www.kcktolmin.si
X-WR-CALDESC:Events for Knjižnica Cirila Kosmača Tolmin
BEGIN:VTIMEZONE
TZID:Europe/Ljubljana
BEGIN:DAYLIGHT
TZOFFSETFROM:+0100
TZOFFSETTO:+0200
TZNAME:CEST
DTSTART:20230326T010000
END:DAYLIGHT
BEGIN:STANDARD
TZOFFSETFROM:+0200
TZOFFSETTO:+0100
TZNAME:CET
DTSTART:20231029T010000
END:STANDARD
END:VTIMEZONE
BEGIN:VEVENT
DTSTART;TZID=Europe/Ljubljana:20230124T100000
DTEND;TZID=Europe/Ljubljana:20230124T110000
DTSTAMP:20260422T110602
CREATED:20230111T094100Z
LAST-MODIFIED:20230111T094100Z
UID:17292-1674554400-1674558000@www.kcktolmin.si
SUMMARY:Srečanja za nosečnice in mamice
DESCRIPTION:* BREZPLAČNA SREČANJA ZA NOSEČNICE IN MAMICE NA PORODNIŠKI * \nV času prehoda v starševstvo je podpora strokovnjakov in drugih mamic osnovna potreba ženske. V sodelovanju s Knjižnico Cirila Kosmača Tolmin organizira Mihela Nanut\, dipl. medicinska sestra in doula\, brezplačna mesečna srečanja za nosečnice in mamice na porodniški. S pomočjo različnih strokovnjakov bomo ponujali odgovore na najbolj pereče izzive starševstva\, hkrati pa se bo med mamicami ustvarjal občutek skupnosti. \nDatumi srečanj v prihodnjih mesecih bodo naknadno objavljeni. \nPrvo letošnje srečanje bo 24. januarja ob 10h\, z nami bo logopedinja Jasmin Podversic. Študijsko pot je začela na ljubljanski univerzi in nadaljevala izobraževanja v smeri obrazne anatomije in motorike\, s poudarkom na priraščenem jeziku. Septembra je odprla ambulanto v Tolminu\, gostuje tudi drugod po Sloveniji. \nNa srečanju bo prostor za pogovor\, za vprašanja\, prepustili se bomo tudi toku vaših zanimanj. Na začetku nam bo iztočnica raziskovanje različnih tipov joka dojenčka in kaj vse nam staršem lahko otrok z njim sporoča.
URL:https://www.kcktolmin.si/dogodek/srecanja-za-nosecnice-in-mamice/
LOCATION:Knjižnica Cirila Kosmača Tolmin\, Tumov drevored 6\, Tolmin\, Slovenia
CATEGORIES:Prireditev
ATTACH;FMTTYPE=image/jpeg:https://www.kcktolmin.si/wp-content/uploads/2023/01/Srecanje-Tolmin-1.jpg
END:VEVENT
END:VCALENDAR