
BEGIN:VCALENDAR
VERSION:2.0
PRODID:-//Knjižnica Cirila Kosmača Tolmin - ECPv5.16.4//NONSGML v1.0//EN
CALSCALE:GREGORIAN
METHOD:PUBLISH
X-WR-CALNAME:Knjižnica Cirila Kosmača Tolmin
X-ORIGINAL-URL:https://www.kcktolmin.si
X-WR-CALDESC:Events for Knjižnica Cirila Kosmača Tolmin
BEGIN:VTIMEZONE
TZID:Europe/Ljubljana
BEGIN:DAYLIGHT
TZOFFSETFROM:+0100
TZOFFSETTO:+0200
TZNAME:CEST
DTSTART:20190331T010000
END:DAYLIGHT
BEGIN:STANDARD
TZOFFSETFROM:+0200
TZOFFSETTO:+0100
TZNAME:CET
DTSTART:20191027T010000
END:STANDARD
END:VTIMEZONE
BEGIN:VEVENT
DTSTART;TZID=Europe/Ljubljana:20190523T180000
DTEND;TZID=Europe/Ljubljana:20190523T190000
DTSTAMP:20260419T221524
CREATED:20190506T153744Z
LAST-MODIFIED:20190516T131730Z
UID:8878-1558634400-1558638000@www.kcktolmin.si
SUMMARY:Srečanje angleškega bralnega kluba
DESCRIPTION:Vabilo na 3. srečanje angleškega bralnega kluba.
URL:https://www.kcktolmin.si/dogodek/srecanje-angleskega-bralnega-kluba-3/
LOCATION:Knjižnica Tolmin
CATEGORIES:Bralna kultura
ATTACH;FMTTYPE=image/jpeg:https://www.kcktolmin.si/wp-content/uploads/2018/11/Angleski-bralni.jpg
END:VEVENT
END:VCALENDAR