
BEGIN:VCALENDAR
VERSION:2.0
PRODID:-//Knjižnica Cirila Kosmača Tolmin - ECPv5.16.4//NONSGML v1.0//EN
CALSCALE:GREGORIAN
METHOD:PUBLISH
X-WR-CALNAME:Knjižnica Cirila Kosmača Tolmin
X-ORIGINAL-URL:https://www.kcktolmin.si
X-WR-CALDESC:Events for Knjižnica Cirila Kosmača Tolmin
BEGIN:VTIMEZONE
TZID:Europe/Ljubljana
BEGIN:DAYLIGHT
TZOFFSETFROM:+0100
TZOFFSETTO:+0200
TZNAME:CEST
DTSTART:20260329T010000
END:DAYLIGHT
BEGIN:STANDARD
TZOFFSETFROM:+0200
TZOFFSETTO:+0100
TZNAME:CET
DTSTART:20261025T010000
END:STANDARD
END:VTIMEZONE
BEGIN:VEVENT
DTSTART;TZID=Europe/Ljubljana:20260418T140000
DTEND;TZID=Europe/Ljubljana:20260418T180000
DTSTAMP:20260420T111521
CREATED:20260416T065453Z
LAST-MODIFIED:20260416T070406Z
UID:26094-1776520800-1776535200@www.kcktolmin.si
SUMMARY:Tolminke valčkov šum
DESCRIPTION:V okviru Festivala soške postrvi vas tudi tolminska knjižnica vabi k Tolminki na dogodek Tolminke valčkov šum. \nNa stojnici Knjižnice Cirila Kosmača Tolmin se boste lahko včlanili v knjižnico\, ob čemer vam podarimo enoletno članarino\, spoznali boste Knjižnico semen\, okrasili cvetlični lonček in posadili sončnico\, spoznali zanimive knjige in pestre dejavnosti knjižnice za otroke in odrasle. \n \n 
URL:https://www.kcktolmin.si/dogodek/tolminke-valckov-sum/
LOCATION:Ob Tolminki
CATEGORIES:Bralna kultura,Prireditev
ATTACH;FMTTYPE=image/png:https://www.kcktolmin.si/wp-content/uploads/2026/04/FeSP-2026-Tolminke-valckov-sum_plakat.png
END:VEVENT
END:VCALENDAR