
BEGIN:VCALENDAR
VERSION:2.0
PRODID:-//Knjižnica Cirila Kosmača Tolmin - ECPv5.16.4//NONSGML v1.0//EN
CALSCALE:GREGORIAN
METHOD:PUBLISH
X-WR-CALNAME:Knjižnica Cirila Kosmača Tolmin
X-ORIGINAL-URL:https://www.kcktolmin.si
X-WR-CALDESC:Events for Knjižnica Cirila Kosmača Tolmin
BEGIN:VTIMEZONE
TZID:Europe/Ljubljana
BEGIN:DAYLIGHT
TZOFFSETFROM:+0100
TZOFFSETTO:+0200
TZNAME:CEST
DTSTART:20230326T010000
END:DAYLIGHT
BEGIN:STANDARD
TZOFFSETFROM:+0200
TZOFFSETTO:+0100
TZNAME:CET
DTSTART:20231029T010000
END:STANDARD
END:VTIMEZONE
BEGIN:VEVENT
DTSTART;TZID=Europe/Ljubljana:20230405T190000
DTEND;TZID=Europe/Ljubljana:20230405T190000
DTSTAMP:20260421T103409
CREATED:20230331T111318Z
LAST-MODIFIED:20230331T111754Z
UID:17806-1680721200-1680721200@www.kcktolmin.si
SUMMARY:Tomaž Hrovat: ČEZ PLANKE S TURNIMI SMUČMI
DESCRIPTION:6. planinski večer PD Tolmin v zimski sezoni 2022/2023 \nTomaž Hrovat: ČEZ PLANKE S TURNIMI SMUČMI \n6.-2022-2023\, T.HROVAT\, 5.4. e-vabilo
URL:https://www.kcktolmin.si/dogodek/tomaz-hrovat-cez-planke-s-turnimi-smucmi/
LOCATION:Knjižnica Tolmin
CATEGORIES:Predavanje,Predstavitev knjige
ATTACH;FMTTYPE=image/jpeg:https://www.kcktolmin.si/wp-content/uploads/2015/11/markacija_1.jpg
END:VEVENT
END:VCALENDAR