
BEGIN:VCALENDAR
VERSION:2.0
PRODID:-//Knjižnica Cirila Kosmača Tolmin - ECPv5.16.4//NONSGML v1.0//EN
CALSCALE:GREGORIAN
METHOD:PUBLISH
X-WR-CALNAME:Knjižnica Cirila Kosmača Tolmin
X-ORIGINAL-URL:https://www.kcktolmin.si
X-WR-CALDESC:Events for Knjižnica Cirila Kosmača Tolmin
BEGIN:VTIMEZONE
TZID:Europe/Ljubljana
BEGIN:DAYLIGHT
TZOFFSETFROM:+0100
TZOFFSETTO:+0200
TZNAME:CEST
DTSTART:20220327T010000
END:DAYLIGHT
BEGIN:STANDARD
TZOFFSETFROM:+0200
TZOFFSETTO:+0100
TZNAME:CET
DTSTART:20221030T010000
END:STANDARD
END:VTIMEZONE
BEGIN:VEVENT
DTSTART;TZID=Europe/Ljubljana:20221121T180000
DTEND;TZID=Europe/Ljubljana:20221121T180000
DTSTAMP:20260420T063716
CREATED:20221109T121710Z
LAST-MODIFIED:20221114T091858Z
UID:16849-1669053600-1669053600@www.kcktolmin.si
SUMMARY:Trajnostni turizem: Turizem brez odpadkov
DESCRIPTION:Ali poznamo vse pasti sodobnega turizma?\n\nAli vemo\, kaj je Zero waste?\n\nNa predavanju\, ki ga organizira Turizem Dolina Soče\, bomo razmislili o pozitivnih spremembah\, ki jih lahko uvedemo kot ponudniki\, posamezniki\, turisti\, in si odgovorili na vprašanje\, kakšen turizem si želimo\, kaj lahko sami naredimo\, spoznali možnosti in postopke za dodelitev Evropskega poslovnega Zero waste certifikata ter pozitivne primere iz Slovenije\, ki že nosijo naziv Zero waste občina\, hotel\, prireditev.\n\nZaradi bolezni prestavljeno na ponedeljek\, 21. 11.\, ob 18.00.\n\nVabljeni ste vsi deležniki v turizmu. Prosimo\, da se na delavnico prijavite najkasneje en dan pred dogodkom: do 20. 11. Prijave zbiramo na: dogodki@dolina-soce.si
URL:https://www.kcktolmin.si/dogodek/trajnostni-turizem-turizem-brez-odpadkov/
LOCATION:Knjižnica Tolmin
CATEGORIES:Delavnica,Prireditev
ATTACH;FMTTYPE=image/jpeg:https://www.kcktolmin.si/wp-content/uploads/2022/11/Odpadki-slika.jpg
END:VEVENT
END:VCALENDAR