
BEGIN:VCALENDAR
VERSION:2.0
PRODID:-//Knjižnica Cirila Kosmača Tolmin - ECPv5.16.4//NONSGML v1.0//EN
CALSCALE:GREGORIAN
METHOD:PUBLISH
X-WR-CALNAME:Knjižnica Cirila Kosmača Tolmin
X-ORIGINAL-URL:https://www.kcktolmin.si
X-WR-CALDESC:Events for Knjižnica Cirila Kosmača Tolmin
BEGIN:VTIMEZONE
TZID:Europe/Ljubljana
BEGIN:DAYLIGHT
TZOFFSETFROM:+0100
TZOFFSETTO:+0200
TZNAME:CEST
DTSTART:20200329T010000
END:DAYLIGHT
BEGIN:STANDARD
TZOFFSETFROM:+0200
TZOFFSETTO:+0100
TZNAME:CET
DTSTART:20201025T010000
END:STANDARD
END:VTIMEZONE
BEGIN:VEVENT
DTSTART;TZID=Europe/Ljubljana:20200823T170000
DTEND;TZID=Europe/Ljubljana:20200823T183000
DTSTAMP:20260421T084013
CREATED:20200728T115010Z
LAST-MODIFIED:20200819T111703Z
UID:11482-1598202000-1598207400@www.kcktolmin.si
SUMMARY:Ura pravljic z ustvarjalno delavnico v Bovcu
DESCRIPTION:
URL:https://www.kcktolmin.si/dogodek/urice-bovskih-pripovedk-2/
LOCATION:Bovec\, Gouf (Stergulčeva hiša)
CATEGORIES:Bralna kultura za otroke,Prireditev za otroke,Ustvarjalna delavnica za otroke
ATTACH;FMTTYPE=image/jpeg:https://www.kcktolmin.si/wp-content/uploads/2020/07/naslovnica-d2.jpg
END:VEVENT
END:VCALENDAR