
BEGIN:VCALENDAR
VERSION:2.0
PRODID:-//Knjižnica Cirila Kosmača Tolmin - ECPv5.16.4//NONSGML v1.0//EN
CALSCALE:GREGORIAN
METHOD:PUBLISH
X-WR-CALNAME:Knjižnica Cirila Kosmača Tolmin
X-ORIGINAL-URL:https://www.kcktolmin.si
X-WR-CALDESC:Events for Knjižnica Cirila Kosmača Tolmin
BEGIN:VTIMEZONE
TZID:Europe/Ljubljana
BEGIN:DAYLIGHT
TZOFFSETFROM:+0100
TZOFFSETTO:+0200
TZNAME:CEST
DTSTART:20180325T010000
END:DAYLIGHT
BEGIN:STANDARD
TZOFFSETFROM:+0200
TZOFFSETTO:+0100
TZNAME:CET
DTSTART:20181028T010000
END:STANDARD
END:VTIMEZONE
BEGIN:VEVENT
DTSTART;TZID=Europe/Ljubljana:20180906T190000
DTEND;TZID=Europe/Ljubljana:20180906T200000
DTSTAMP:20260421T105151
CREATED:20180827T151816Z
LAST-MODIFIED:20180910T115416Z
UID:7335-1536260400-1536264000@www.kcktolmin.si
SUMMARY:VELJKO TOMAN: IMPRESIJE JORDANIJE
DESCRIPTION:Lepo vabljeni na odprtje razstave akademskega slikarja Veljka Tomana. \nO njegovem likovnem ustvarjanju bo spregovorila umetnostna zgodovinarka Anamarija Stibilj Šajn. \nRazstava bo na ogled do 4. oktobra 2018. \nVabilo-Veljko-Toman \nVeljko Toman se je rodil 29. decembra v Splitu. Osnovno šolo je obiskoval v Žalcu\, Srednjo šolo za oblikovanje (grafični oddelek) pa v Ljubljani. Leta 1964 se je vpisal na Pedagoško akademijo (likovni oddelek)\, kjer je leta 1966 absolviral. Nato se je vpisal na Akademijo za likovno umetnost v Ljubljani in leta 1971 diplomiral pri prof. Maksimu Sedeju. Zaposlil se je v Mestnem muzeju Ljubljana in nadaljeval podiplomski študij restavratorstva pri prof. Mirku Šubicu. Leta 1975 je dobil študentsko Prešernovo nagrado. Ukvarja se s slikarstvom\, z grafiko in ilustracijo ter pedagoško-andragoškim delom. Od\nleta 1973\, ko je prvič razstavljal v Mestni galeriji v Kranju\, je imel 170 razstav doma in v tujini. Sodeloval je tudi na več kot 300 skupinskih razstavah. Prejel je več kot petdeset nagrad in priznanj. Živi in ustvarja v Rakitni.\n\n \n 
URL:https://www.kcktolmin.si/dogodek/veljko-toman-impresije-jordanije/
LOCATION:Knjižnica Tolmin\, Tumov drevored 6\, Tolmin\, 5220\, Slovenija
CATEGORIES:Odprtje razstave
ATTACH;FMTTYPE=image/jpeg:https://www.kcktolmin.si/wp-content/uploads/2018/08/veljko-toman-jordanija_obrezu.jpg
END:VEVENT
END:VCALENDAR