
BEGIN:VCALENDAR
VERSION:2.0
PRODID:-//Knjižnica Cirila Kosmača Tolmin - ECPv5.16.4//NONSGML v1.0//EN
CALSCALE:GREGORIAN
METHOD:PUBLISH
X-WR-CALNAME:Knjižnica Cirila Kosmača Tolmin
X-ORIGINAL-URL:https://www.kcktolmin.si
X-WR-CALDESC:Events for Knjižnica Cirila Kosmača Tolmin
BEGIN:VTIMEZONE
TZID:Europe/Ljubljana
BEGIN:DAYLIGHT
TZOFFSETFROM:+0100
TZOFFSETTO:+0200
TZNAME:CEST
DTSTART:20240331T010000
END:DAYLIGHT
BEGIN:STANDARD
TZOFFSETFROM:+0200
TZOFFSETTO:+0100
TZNAME:CET
DTSTART:20241027T010000
END:STANDARD
END:VTIMEZONE
BEGIN:VEVENT
DTSTART;TZID=Europe/Ljubljana:20240319T110000
DTEND;TZID=Europe/Ljubljana:20240319T123000
DTSTAMP:20260422T092649
CREATED:20240314T083408Z
LAST-MODIFIED:20240314T083659Z
UID:20297-1710846000-1710851400@www.kcktolmin.si
SUMMARY:Vključitev električnih kombi vozil v lokalne skupnosti Triglavskega narodnega parka
DESCRIPTION:Vabimo vas\, da se nam pridružite na predaji električnih kombi vozil petim lokalnim skupnostim Triglavskega narodnega parka: občinam Tolmin\, Kobarid\, Bovec\, Kranjska Gora in Bohinj.\nDogodek bo potekal v torek\, 19. marca 2024\, ob 11. uri v Knjižnici Cirila Kosmača Tolmin.\n\n\nV jubilejnem letu za Triglavski narodni park\, območje Julijskih Alp in slovensko naravovarstvo\, želimo predstaviti enega izmed razvojnih ukrepov Javnega zavoda Triglavski narodni park\, namenjenega domačinom in obiskovalcem Triglavskega narodnega parka. Za večjo mobilnost prebivalcev in za potrebe umirjanja prometa v zavarovanem območju smo v sodelovanju z Ministrstvom za naravne vire in prostor pristopili k izvedbi pilotnega projekta v mednarodnem alpskem prostoru\, k nakupu in umestitvi električnih kombi vozil v parkovne lokalne skupnosti\, vključno z digitalno koordinacijo in strokovno podporo. \n\nProgram:\n– Uvodni pozdravi\n– Predstavitev vključitve električnih kombi vozil Toyota Proace Verso v parkovne lokalne skupnosti Triglavskega narodnega parka za izboljšanje kakovosti življenja domačinov in umirjanje prometa – pogovor s ključnimi deležniki\n– Slovesni prevzem električnih kombi vozil\nDogodek je del slovenskega predsedovanja Alpski konvenciji.\nZačetek je prilagojen prihodu avtovlaka v Most na Soči\, zaključil pa se bo predvidoma ob 12.30.
URL:https://www.kcktolmin.si/dogodek/vkljucitev-elektricnih-kombi-vozil-v-lokalne-skupnosti-triglavskega-narodnega-parka/
LOCATION:Knjižnica Tolmin
CATEGORIES:Ostalo
ATTACH;FMTTYPE=image/jpeg:https://www.kcktolmin.si/wp-content/uploads/2024/03/e-kombi.jpg
END:VEVENT
END:VCALENDAR