
BEGIN:VCALENDAR
VERSION:2.0
PRODID:-//Knjižnica Cirila Kosmača Tolmin - ECPv5.16.4//NONSGML v1.0//EN
CALSCALE:GREGORIAN
METHOD:PUBLISH
X-WR-CALNAME:Knjižnica Cirila Kosmača Tolmin
X-ORIGINAL-URL:https://www.kcktolmin.si
X-WR-CALDESC:Events for Knjižnica Cirila Kosmača Tolmin
BEGIN:VTIMEZONE
TZID:Europe/Ljubljana
BEGIN:DAYLIGHT
TZOFFSETFROM:+0100
TZOFFSETTO:+0200
TZNAME:CEST
DTSTART:20180325T010000
END:DAYLIGHT
BEGIN:STANDARD
TZOFFSETFROM:+0200
TZOFFSETTO:+0100
TZNAME:CET
DTSTART:20181028T010000
END:STANDARD
END:VTIMEZONE
BEGIN:VEVENT
DTSTART;TZID=Europe/Ljubljana:20180724T210000
DTEND;TZID=Europe/Ljubljana:20180724T223000
DTSTAMP:20260420T043429
CREATED:20180705T084903Z
LAST-MODIFIED:20180719T083415Z
UID:7056-1532466000-1532471400@www.kcktolmin.si
SUMMARY:Kino pod brezami - Zadnji ledeni lovci
DESCRIPTION:ZADNJI LEDENI LOVCI\, dokumentarni\, 72 min\nRežija: Jure Breceljnik\, Rožle Bregar \nCelovečerni dokumentarni film pripoveduje zgodbo o kulturi inuitskih lovcev vzhodne Grenlandije\, ki ji danes\, po skoraj 4000 letih obstoja v neusmiljenem naravnem okolju\, grozi izginotje. \nPRED FILMOM: ob 20.30 pogovor z ekstremnim snemalcem Rožletom Bregarjem. \nV primeru dežja bo dogodek prestavljen v Kino Tolmin. \nVeč o Kinu pod brezami: https://www.kcktolmin.si/prihaja-kino-pod-brezami-2018/
URL:https://www.kcktolmin.si/dogodek/zadnji-ledeni-lovci/
LOCATION:Knjižnica Tolmin
CATEGORIES:Film
ATTACH;FMTTYPE=image/jpeg:https://www.kcktolmin.si/wp-content/uploads/2018/07/Zadnji_ledeni_lovci_2.jpg
END:VEVENT
END:VCALENDAR